{"text_format":"1","workbook":"xlsx","n_sheets":2,"sheets":["Simple Data","Sheet1"],"not_rendered":{"charts":2,"images":0,"macros":1,"external_links":0,"defined_names":0,"comments":1,"pivot_tables":0},"unopened":[],"bounds":{"document_bytes":16777216,"sheet_cells":100000,"rows_first":2000,"rows_last":500,"rows_between":2000,"halvings":0,"cell_chars":16384,"cell_head_chars":4096},"cells_cut":0,"cells_raw":0,"read":"whole","date_system":"1900"}

{"sheet":"Simple Data","index":0,"n_rows":501,"n_cols":17,"rows_kept":501,"cut":false,"hidden":false,"merged":[]}
["Time","Sample","Blank",null,null,null,null,null,null,null,"Average sample",{"$f":"AVERAGE(B:B)","v":8.0987903225806459},null,"%T","ABS","Wave Length"]
["21:14:54",0,7,null,null,null,null,null,null,null,"Average Blank",{"$f":"AVERAGE(C:C)","v":77.141129032258064},1,{"$f":"(((B2/L$2)*100))","v":0},{"$f":"-LOG(N2/100)","v":{"$error":"#NUM!"}},750,{"$f":"750-300","v":450}]
["21:14:55",0,9,null,null,null,null,null,null,null,null,null,2,{"$f":"(((B3/L$2)*100))","v":0},{"$error":"#NUM!"},{"$f":"P2-0.9","v":749.1},{"$f":"Q2/500","v":0.9}]
["21:14:55",0,7,null,null,null,null,null,null,null,null,null,3,0,{"$error":"#NUM!"},{"$f":"P3-0.9","v":748.2}]
["21:14:55",0,6,null,null,null,null,null,null,null,null,null,4,0,{"$error":"#NUM!"},747.30000000000007]
["21:14:55",0,6,null,null,null,null,null,null,null,null,null,5,0,{"$error":"#NUM!"},746.40000000000009]
["21:14:55",0,7,null,null,null,null,null,null,null,null,null,6,0,{"$error":"#NUM!"},745.50000000000011]
["21:14:55",0,7,null,null,null,null,null,null,null,null,null,7,0,{"$error":"#NUM!"},744.60000000000014]
["21:14:55",0,7,null,null,null,null,null,null,null,null,null,8,0,{"$error":"#NUM!"},743.70000000000016]
["21:14:55",0,7,null,null,null,null,null,null,null,null,null,9,0,{"$error":"#NUM!"},742.80000000000018]
["21:14:55",0,7,null,null,null,null,null,null,null,null,null,10,0,{"$error":"#NUM!"},741.9000000000002]
["21:14:55",0,10,null,null,null,null,null,null,null,null,null,11,0,{"$error":"#NUM!"},741.00000000000023]
["21:14:55",0,9,null,null,null,null,null,null,null,null,null,12,0,{"$error":"#NUM!"},740.10000000000025]
["21:14:55",0,10,null,null,null,null,null,null,null,null,null,13,0,{"$error":"#NUM!"},739.20000000000027]
["21:14:55",0,6,null,null,null,null,null,null,null,null,null,14,0,{"$error":"#NUM!"},738.3000000000003]
["21:14:55",0,10,null,null,null,null,null,null,null,null,null,15,0,{"$error":"#NUM!"},737.40000000000032]
["21:14:56",0,9,null,null,null,null,null,null,null,null,null,16,0,{"$error":"#NUM!"},736.50000000000034]
["21:14:56",0,9,null,null,null,null,null,null,null,null,null,17,0,{"$error":"#NUM!"},735.60000000000036]
["21:14:56",0,9,null,null,null,null,null,null,null,null,null,18,0,{"$error":"#NUM!"},734.70000000000039]
["21:14:56",0,10,null,null,null,null,null,null,null,null,null,19,0,{"$error":"#NUM!"},733.80000000000041]
["21:14:56",0,10,null,null,null,null,null,null,null,null,null,20,0,{"$error":"#NUM!"},732.90000000000043]
["21:14:56",0,10,null,null,null,null,null,null,null,null,null,21,0,{"$error":"#NUM!"},732.00000000000045]
["21:14:56",0,11,null,null,null,null,null,null,null,null,null,22,0,{"$error":"#NUM!"},731.10000000000048]
["21:14:56",0,10,null,null,null,null,null,null,null,null,null,23,0,{"$error":"#NUM!"},730.2000000000005]
["21:14:56",0,10,null,null,null,null,null,null,null,null,null,24,0,{"$error":"#NUM!"},729.30000000000052]
["21:14:56",0,10,null,null,null,null,null,null,null,null,null,25,0,{"$error":"#NUM!"},728.40000000000055]
["21:14:56",0,10,null,null,null,null,null,null,null,null,null,26,0,{"$error":"#NUM!"},727.50000000000057]
["21:14:56",0,12,null,null,null,null,null,null,null,null,null,27,0,{"$error":"#NUM!"},726.60000000000059]
["21:14:56",0,10,null,null,null,null,null,null,null,null,null,28,0,{"$error":"#NUM!"},725.70000000000061]
["21:14:56",0,13,null,null,null,null,null,null,null,null,null,29,0,{"$error":"#NUM!"},724.80000000000064]
["21:14:57",0,10,null,null,null,null,null,null,null,null,null,30,0,{"$error":"#NUM!"},723.90000000000066]
["21:14:57",0,12,null,null,null,null,null,null,null,null,null,31,0,{"$error":"#NUM!"},723.00000000000068]
["21:14:57",0,10,null,null,null,null,null,null,null,null,null,32,0,{"$error":"#NUM!"},722.1000000000007]
["21:14:57",0,12,null,null,null,null,null,null,null,null,null,33,0,{"$error":"#NUM!"},721.20000000000073]
["21:14:57",0,11,null,null,null,null,null,null,null,null,null,34,0,{"$error":"#NUM!"},720.30000000000075]
["21:14:57",0,12,null,null,null,null,null,null,null,null,null,35,0,{"$error":"#NUM!"},719.40000000000077]
["21:14:57",0,14,null,null,null,null,null,null,null,null,null,36,0,{"$error":"#NUM!"},718.5000000000008]
["21:14:57",0,12,null,null,null,null,null,null,null,null,null,37,0,{"$error":"#NUM!"},717.60000000000082]
["21:14:57",0,18,null,null,null,null,null,null,null,null,null,38,0,{"$error":"#NUM!"},716.70000000000084]
["21:14:57",0,12,null,null,null,null,null,null,null,null,null,39,0,{"$error":"#NUM!"},715.80000000000086]
["21:14:57",0,18,null,null,null,null,null,null,null,null,null,40,0,{"$error":"#NUM!"},714.90000000000089]
["21:14:57",0,12,null,null,null,null,null,null,null,null,null,41,0,{"$error":"#NUM!"},714.00000000000091]
["21:14:57",0,16,null,null,null,null,null,null,null,null,null,42,0,{"$error":"#NUM!"},713.10000000000093,{"$f":"11500/200","v":57.5}]
["21:14:57",0,13,null,null,null,null,null,null,null,null,null,43,0,{"$error":"#NUM!"},712.20000000000095,{"$f":"200*57","v":11400}]
["21:14:57",0,14,null,null,null,null,null,null,null,null,null,44,0,{"$error":"#NUM!"},711.30000000000098]
["21:14:58",0,14,null,null,null,null,null,null,null,null,null,45,0,{"$error":"#NUM!"},710.400000000001]
["21:14:58",0,15,null,null,null,null,null,null,null,null,null,46,0,{"$error":"#NUM!"},709.50000000000102,{"$f":"11500/500","v":23}]
["21:14:58",0,18,null,null,null,null,null,null,null,null,null,47,0,{"$error":"#NUM!"},708.60000000000105]
["21:14:58",0,15,null,null,null,null,null,null,null,null,null,48,0,{"$error":"#NUM!"},707.70000000000107]
["21:14:58",0,19,null,null,null,null,null,null,null,null,null,49,0,{"$error":"#NUM!"},706.80000000000109]
["21:14:58",0,15,null,null,null,null,null,null,null,null,null,50,0,{"$error":"#NUM!"},705.90000000000111]
["21:14:58",0,20,null,null,null,null,null,null,null,null,null,51,0,{"$error":"#NUM!"},705.00000000000114]
["21:14:58",0,15,null,null,null,null,null,null,null,null,null,52,0,{"$error":"#NUM!"},704.10000000000116]
["21:14:58",0,21,null,null,null,null,null,null,null,null,null,53,0,{"$error":"#NUM!"},703.20000000000118]
["21:14:58",0,16,null,null,null,null,null,null,null,null,null,54,0,{"$error":"#NUM!"},702.30000000000121]
["21:14:58",0,21,null,null,null,null,null,null,null,null,null,55,0,{"$error":"#NUM!"},701.40000000000123]
["21:14:58",0,15,null,null,null,null,null,null,null,null,null,56,0,{"$error":"#NUM!"},700.50000000000125]
["21:14:58",0,20,null,null,null,null,null,null,null,null,null,57,0,{"$error":"#NUM!"},699.60000000000127]
["21:14:58",0,16,null,null,null,null,null,null,null,null,null,58,0,{"$error":"#NUM!"},698.7000000000013]
["21:14:59",0,22,null,null,null,null,null,null,null,null,null,59,0,{"$error":"#NUM!"},697.80000000000132]
["21:14:59",0,19,null,null,null,null,null,null,null,null,null,60,0,{"$error":"#NUM!"},696.90000000000134]
["21:14:59",0,21,null,null,null,null,null,null,null,null,null,61,0,{"$error":"#NUM!"},696.00000000000136]
["21:14:59",0,21,null,null,null,null,null,null,null,null,null,62,0,{"$error":"#NUM!"},695.10000000000139]
["21:14:59",0,22,null,null,null,null,null,null,null,null,null,63,0,{"$error":"#NUM!"},694.20000000000141]
["21:14:59",0,25,null,null,null,null,null,null,null,null,null,64,0,{"$error":"#NUM!"},693.30000000000143]
["21:14:59",0,21,null,null,null,null,null,null,null,null,null,65,0,{"$error":"#NUM!"},692.40000000000146]
["21:14:59",0,28,null,null,null,null,null,null,null,null,null,66,{"$f":"(((B67/L$2)*100))","v":0},{"$f":"-LOG(N67/100)","v":{"$error":"#NUM!"}},691.50000000000148]
["21:14:59",0,22,null,null,null,null,null,null,null,null,null,67,0,{"$error":"#NUM!"},{"$f":"P67-0.9","v":690.6000000000015}]
["21:14:59",1,31,null,null,null,null,null,null,null,null,null,68,1.2963253358423501,1.8872859908807014,689.70000000000152]
["21:14:59",0,22,null,null,null,null,null,null,null,null,null,69,0,{"$error":"#NUM!"},688.80000000000155]
["21:14:59",0,33,null,null,null,null,null,null,null,null,null,70,0,{"$error":"#NUM!"},687.90000000000157]
["21:14:59",0,21,null,null,null,null,null,null,null,null,null,71,0,{"$error":"#NUM!"},687.00000000000159]
["21:14:59",0,30,null,null,null,null,null,null,null,null,null,72,0,{"$error":"#NUM!"},686.10000000000161]
["21:15:00",0,23,null,null,null,null,null,null,null,null,null,73,0,{"$error":"#NUM!"},685.20000000000164]
["21:15:00",2,28,null,null,null,null,null,null,null,null,null,74,2.5926506716847002,1.5862559952167201,684.30000000000166]
["21:15:00",0,28,null,null,null,null,null,null,null,null,null,75,0,{"$error":"#NUM!"},683.40000000000168]
["21:15:00",0,25,null,null,null,null,null,null,null,null,null,76,0,{"$error":"#NUM!"},682.50000000000171]
["21:15:00",0,38,null,null,null,null,null,null,null,null,null,77,0,{"$error":"#NUM!"},681.60000000000173]
["21:15:00",0,25,null,null,null,null,null,null,null,null,null,78,0,{"$error":"#NUM!"},680.70000000000175]
["21:15:00",0,37,null,null,null,null,null,null,null,null,null,79,0,{"$error":"#NUM!"},679.80000000000177]
["21:15:00",0,24,null,null,null,null,null,null,null,null,null,80,0,{"$error":"#NUM!"},678.9000000000018]
["21:15:00",0,36,null,null,null,null,null,null,null,null,null,81,0,{"$error":"#NUM!"},678.00000000000182]
["21:15:00",0,28,null,null,null,null,null,null,null,null,null,82,0,{"$error":"#NUM!"},677.10000000000184]
["21:15:00",1,31,null,null,null,null,null,null,null,null,null,83,1.2963253358423501,1.8872859908807014,676.20000000000186]
["21:15:00",1,41,null,null,null,null,null,null,null,null,null,84,1.2963253358423501,1.8872859908807014,675.30000000000189]
["21:15:00",1,28,null,null,null,null,null,null,null,null,null,85,1.2963253358423501,1.8872859908807014,674.40000000000191]
["21:15:00",1,35,null,null,null,null,null,null,null,null,null,86,1.2963253358423501,1.8872859908807014,673.50000000000193]
["21:15:01",1,42,null,null,null,null,null,null,null,null,null,87,1.2963253358423501,1.8872859908807014,672.60000000000196]
["21:15:01",1,33,null,null,null,null,null,null,null,null,null,88,1.2963253358423501,1.8872859908807014,671.70000000000198]
["21:15:01",1,49,null,null,null,null,null,null,null,null,null,89,1.2963253358423501,1.8872859908807014,670.800000000002]
["21:15:01",1,32,null,null,null,null,null,null,null,null,null,90,1.2963253358423501,1.8872859908807014,669.90000000000202]
["21:15:01",1,54,null,null,null,null,null,null,null,null,null,91,1.2963253358423501,1.8872859908807014,669.00000000000205]
["21:15:01",1,33,null,null,null,null,null,null,null,null,null,92,1.2963253358423501,1.8872859908807014,668.10000000000207]
["21:15:01",3,54,null,null,null,null,null,null,null,null,null,93,3.8889760075270501,1.4101647361610388,667.20000000000209]
["21:15:01",1,32,null,null,null,null,null,null,null,null,null,94,1.2963253358423501,1.8872859908807014,666.30000000000211]
["21:15:01",2,50,null,null,null,null,null,null,null,null,null,95,2.5926506716847002,1.5862559952167201,665.40000000000214]
["21:15:01",1,32,null,null,null,null,null,null,null,null,null,96,1.2963253358423501,1.8872859908807014,664.50000000000216]
["21:15:01",1,42,null,null,null,null,null,null,null,null,null,97,1.2963253358423501,1.8872859908807014,663.60000000000218]
["21:15:01",2,32,null,null,null,null,null,null,null,null,null,98,2.5926506716847002,1.5862559952167201,662.70000000000221]
["21:15:01",1,45,null,null,null,null,null,null,null,null,null,99,1.2963253358423501,1.8872859908807014,661.80000000000223]
["21:15:01",2,40,null,null,null,null,null,null,null,null,null,100,2.5926506716847002,1.5862559952167201,660.90000000000225]
["21:15:01",2,45,null,null,null,null,null,null,null,null,null,101,2.5926506716847002,1.5862559952167201,660.00000000000227]
["21:15:02",2,51,null,null,null,null,null,null,null,null,null,102,2.5926506716847002,1.5862559952167201,659.1000000000023]
["21:15:02",0,44,null,null,null,null,null,null,null,null,null,103,0,{"$error":"#NUM!"},658.20000000000232]
["21:15:02",2,59,null,null,null,null,null,null,null,null,null,104,2.5926506716847002,1.5862559952167201,657.30000000000234]
["21:15:02",2,44,null,null,null,null,null,null,null,null,null,105,2.5926506716847002,1.5862559952167201,656.40000000000236]
["21:15:02",3,68,null,null,null,null,null,null,null,null,null,106,3.8889760075270501,1.4101647361610388,655.50000000000239]
["21:15:02",3,42,null,null,null,null,null,null,null,null,null,107,3.8889760075270501,1.4101647361610388,654.60000000000241]
["21:15:02",2,75,null,null,null,null,null,null,null,null,null,108,2.5926506716847002,1.5862559952167201,653.70000000000243]
["21:15:02",2,42,null,null,null,null,null,null,null,null,null,109,2.5926506716847002,1.5862559952167201,652.80000000000246]
["21:15:02",4,72,null,null,null,null,null,null,null,null,null,110,5.1853013433694004,1.2852259995527389,651.90000000000248]
["21:15:02",3,41,null,null,null,null,null,null,null,null,null,111,3.8889760075270501,1.4101647361610388,651.0000000000025]
["21:15:02",3,68,null,null,null,null,null,null,null,null,null,112,3.8889760075270501,1.4101647361610388,650.10000000000252]
["21:15:02",3,41,null,null,null,null,null,null,null,null,null,113,3.8889760075270501,1.4101647361610388,649.20000000000255]
["21:15:02",2,66,null,null,null,null,null,null,null,null,null,114,2.5926506716847002,1.5862559952167201,648.30000000000257]
["21:15:02",3,41,null,null,null,null,null,null,null,null,null,115,3.8889760075270501,1.4101647361610388,647.40000000000259]
["21:15:03",3,64,null,null,null,null,null,null,null,null,null,116,3.8889760075270501,1.4101647361610388,646.50000000000261]
["21:15:03",3,41,null,null,null,null,null,null,null,null,null,117,3.8889760075270501,1.4101647361610388,645.60000000000264]
["21:15:03",3,63,null,null,null,null,null,null,null,null,null,118,3.8889760075270501,1.4101647361610388,644.70000000000266]
["21:15:03",4,45,null,null,null,null,null,null,null,null,null,119,5.1853013433694004,1.2852259995527389,643.80000000000268]
["21:15:03",3,62,null,null,null,null,null,null,null,null,null,120,3.8889760075270501,1.4101647361610388,642.90000000000271]
["21:15:03",4,60,null,null,null,null,null,null,null,null,null,121,5.1853013433694004,1.2852259995527389,642.00000000000273]
["21:15:03",4,59,null,null,null,null,null,null,null,null,null,122,5.1853013433694004,1.2852259995527389,641.10000000000275]
["21:15:03",3,73,null,null,null,null,null,null,null,null,null,123,3.8889760075270501,1.4101647361610388,640.20000000000277]
["21:15:03",4,58,null,null,null,null,null,null,null,null,null,124,5.1853013433694004,1.2852259995527389,639.3000000000028]
["21:15:03",4,84,null,null,null,null,null,null,null,null,null,125,5.1853013433694004,1.2852259995527389,638.40000000000282]
["21:15:03",4,56,null,null,null,null,null,null,null,null,null,126,5.1853013433694004,1.2852259995527389,637.50000000000284]
["21:15:03",4,95,null,null,null,null,null,null,null,null,null,127,5.1853013433694004,1.2852259995527389,636.60000000000286]
["21:15:03",5,51,null,null,null,null,null,null,null,null,null,128,6.4816266792117512,1.1883159865446824,635.70000000000289]
["21:15:03",4,86,null,null,null,null,null,null,null,null,null,129,5.1853013433694004,1.2852259995527389,634.80000000000291]
["21:15:04",4,50,null,null,null,null,null,null,null,null,null,130,{"$f":"(((B131/L$2)*100))","v":5.1853013433694004},{"$f":"-LOG(N131/100)","v":1.2852259995527389},633.90000000000293]
["21:15:04",4,83,null,null,null,null,null,null,null,null,null,131,5.1853013433694004,1.2852259995527389,{"$f":"P131-0.9","v":633.00000000000296}]
["21:15:04",5,49,null,null,null,null,null,null,null,null,null,132,6.4816266792117512,1.1883159865446824,632.10000000000298]
["21:15:04",5,81,null,null,null,null,null,null,null,null,null,133,6.4816266792117512,1.1883159865446824,631.200000000003]
["21:15:04",5,49,null,null,null,null,null,null,null,null,null,134,6.4816266792117512,1.1883159865446824,630.30000000000302]
["21:15:04",5,76,null,null,null,null,null,null,null,null,null,135,6.4816266792117512,1.1883159865446824,629.40000000000305]
["21:15:04",6,59,null,null,null,null,null,null,null,null,null,136,7.7779520150541002,1.1091347404970577,628.50000000000307]
["21:15:04",5,76,null,null,null,null,null,null,null,null,null,137,6.4816266792117512,1.1883159865446824,627.60000000000309]
["21:15:04",6,106,null,null,null,null,null,null,null,null,null,138,7.7779520150541002,1.1091347404970577,626.70000000000312]
["21:15:04",6,60,null,null,null,null,null,null,null,null,null,139,7.7779520150541002,1.1091347404970577,625.80000000000314]
["21:15:04",6,109,null,null,null,null,null,null,null,null,null,140,7.7779520150541002,1.1091347404970577,624.90000000000316]
["21:15:04",7,59,null,null,null,null,null,null,null,null,null,141,9.07427735089645,1.0421879508664444,624.00000000000318]
["21:15:04",6,103,null,null,null,null,null,null,null,null,null,142,7.7779520150541002,1.1091347404970577,623.10000000000321]
["21:15:04",7,55,null,null,null,null,null,null,null,null,null,143,9.07427735089645,1.0421879508664444,622.20000000000323]
["21:15:04",6,86,null,null,null,null,null,null,null,null,null,144,7.7779520150541002,1.1091347404970577,621.30000000000325]
["21:15:05",7,68,null,null,null,null,null,null,null,null,null,145,9.07427735089645,1.0421879508664444,620.40000000000327]
["21:15:05",6,82,null,null,null,null,null,null,null,null,null,146,7.7779520150541002,1.1091347404970577,619.5000000000033]
["21:15:05",7,89,null,null,null,null,null,null,null,null,null,147,9.07427735089645,1.0421879508664444,618.60000000000332]
["21:15:05",6,74,null,null,null,null,null,null,null,null,null,148,7.7779520150541002,1.1091347404970577,617.70000000000334]
["21:15:05",6,119,null,null,null,null,null,null,null,null,null,149,7.7779520150541002,1.1091347404970577,616.80000000000337]
["21:15:05",9,60,null,null,null,null,null,null,null,null,null,150,11.666928022581152,0.93304348144137628,615.90000000000339]
["21:15:05",6,97,null,null,null,null,null,null,null,null,null,151,7.7779520150541002,1.1091347404970577,615.00000000000341]
["21:15:05",9,58,null,null,null,null,null,null,null,null,null,152,11.666928022581152,0.93304348144137628,614.10000000000343]
["21:15:05",7,93,null,null,null,null,null,null,null,null,null,153,9.07427735089645,1.0421879508664444,613.20000000000346]
["21:15:05",9,81,null,null,null,null,null,null,null,null,null,154,11.666928022581152,0.93304348144137628,612.30000000000348]
["21:15:05",6,91,null,null,null,null,null,null,null,null,null,155,7.7779520150541002,1.1091347404970577,611.4000000000035]
["21:15:05",6,105,null,null,null,null,null,null,null,null,null,156,7.7779520150541002,1.1091347404970577,610.50000000000352]
["21:15:05",7,86,null,null,null,null,null,null,null,null,null,157,9.07427735089645,1.0421879508664444,609.60000000000355]
["21:15:05",7,130,null,null,null,null,null,null,null,null,null,158,9.07427735089645,1.0421879508664444,608.70000000000357]
["21:15:06",11,97,null,null,null,null,null,null,null,null,null,159,14.259578694265851,0.84589330572247623,607.80000000000359]
["21:15:06",9,92,null,null,null,null,null,null,null,null,null,160,11.666928022581152,0.93304348144137628,606.90000000000362]
["21:15:06",10,120,null,null,null,null,null,null,null,null,null,161,12.963253358423502,0.88728599088070126,606.00000000000364]
["21:15:06",10,82,null,null,null,null,null,null,null,null,null,162,12.963253358423502,0.88728599088070126,605.10000000000366]
["21:15:06",9,134,null,null,null,null,null,null,null,null,null,163,11.666928022581152,0.93304348144137628,604.20000000000368]
["21:15:06",10,110,null,null,null,null,null,null,null,null,null,164,12.963253358423502,0.88728599088070126,603.30000000000371]
["21:15:06",11,84,null,null,null,null,null,null,null,null,null,165,14.259578694265851,0.84589330572247623,602.40000000000373]
["21:15:06",11,145,null,null,null,null,null,null,null,null,null,166,14.259578694265851,0.84589330572247623,601.50000000000375]
["21:15:06",12,99,null,null,null,null,null,null,null,null,null,167,15.5559040301082,0.80810474483307648,600.60000000000377]
["21:15:06",11,90,null,null,null,null,null,null,null,null,null,168,14.259578694265851,0.84589330572247623,599.7000000000038]
["21:15:06",11,129,null,null,null,null,null,null,null,null,null,169,14.259578694265851,0.84589330572247623,598.80000000000382]
["21:15:06",12,84,null,null,null,null,null,null,null,null,null,170,15.5559040301082,0.80810474483307648,597.90000000000384]
["21:15:06",11,107,null,null,null,null,null,null,null,null,null,171,14.259578694265851,0.84589330572247623,597.00000000000387]
["21:15:07",12,159,null,null,null,null,null,null,null,null,null,172,15.5559040301082,0.80810474483307648,596.10000000000389]
["21:15:07",13,132,null,null,null,null,null,null,null,null,null,173,16.852229365950553,0.77334263857386443,595.20000000000391]
["21:15:07",12,90,null,null,null,null,null,null,null,null,null,174,15.5559040301082,0.80810474483307648,594.30000000000393]
["21:15:07",11,151,null,null,null,null,null,null,null,null,null,175,14.259578694265851,0.84589330572247623,593.40000000000396]
["21:15:07",13,121,null,null,null,null,null,null,null,null,null,176,16.852229365950553,0.77334263857386443,592.50000000000398]
["21:15:07",12,94,null,null,null,null,null,null,null,null,null,177,15.5559040301082,0.80810474483307648,591.600000000004]
["21:15:07",13,134,null,null,null,null,null,null,null,null,null,178,16.852229365950553,0.77334263857386443,590.70000000000402]
["21:15:07",14,107,null,null,null,null,null,null,null,null,null,179,18.1485547017929,0.7411579552024633,589.80000000000405]
["21:15:07",11,98,null,null,null,null,null,null,null,null,null,180,14.259578694265851,0.84589330572247623,588.90000000000407]
["21:15:07",13,134,null,null,null,null,null,null,null,null,null,181,16.852229365950553,0.77334263857386443,588.00000000000409]
["21:15:07",13,125,null,null,null,null,null,null,null,null,null,182,16.852229365950553,0.77334263857386443,587.10000000000412]
["21:15:07",14,100,null,null,null,null,null,null,null,null,null,183,18.1485547017929,0.7411579552024633,586.20000000000414]
["21:15:07",14,142,null,null,null,null,null,null,null,null,null,184,18.1485547017929,0.7411579552024633,585.30000000000416]
["21:15:08",14,169,null,null,null,null,null,null,null,null,null,185,18.1485547017929,0.7411579552024633,584.40000000000418]
["21:15:08",15,129,null,null,null,null,null,null,null,null,null,186,19.444880037635251,0.71119473182502002,583.50000000000421]
["21:15:08",14,100,null,null,null,null,null,null,null,null,null,187,18.1485547017929,0.7411579552024633,582.60000000000423]
["21:15:08",14,145,null,null,null,null,null,null,null,null,null,188,18.1485547017929,0.7411579552024633,581.70000000000425]
["21:15:08",15,117,null,null,null,null,null,null,null,null,null,189,19.444880037635251,0.71119473182502002,580.80000000000427]
["21:15:08",14,106,null,null,null,null,null,null,null,null,null,190,18.1485547017929,0.7411579552024633,579.9000000000043]
["21:15:08",14,156,null,null,null,null,null,null,null,null,null,191,18.1485547017929,0.7411579552024633,579.00000000000432]
["21:15:08",16,167,null,null,null,null,null,null,null,null,null,192,20.741205373477602,0.68316600822477647,578.10000000000434]
["21:15:08",15,133,null,null,null,null,null,null,null,null,null,193,19.444880037635251,0.71119473182502002,577.20000000000437]
["21:15:08",15,106,null,null,null,null,null,null,null,null,null,194,{"$f":"(((B195/L$2)*100))","v":19.444880037635251},{"$f":"-LOG(N195/100)","v":0.71119473182502002},576.30000000000439]
["21:15:08",14,156,null,null,null,null,null,null,null,null,null,195,18.1485547017929,0.7411579552024633,{"$f":"P195-0.9","v":575.40000000000441}]
["21:15:08",18,197,null,null,null,null,null,null,null,null,null,196,23.333856045162303,0.63201348577739513,574.50000000000443]
["21:15:08",18,189,null,null,null,null,null,null,null,null,null,197,23.333856045162303,0.63201348577739513,573.60000000000446]
["21:15:09",18,151,null,null,null,null,null,null,null,null,null,198,23.333856045162303,0.63201348577739513,572.70000000000448]
["21:15:09",16,105,null,null,null,null,null,null,null,null,null,199,20.741205373477602,0.68316600822477647,571.8000000000045]
["21:15:09",16,93,null,null,null,null,null,null,null,null,null,200,20.741205373477602,0.68316600822477647,570.90000000000452]
["21:15:09",16,146,null,null,null,null,null,null,null,null,null,201,20.741205373477602,0.68316600822477647,570.00000000000455]
["21:15:09",18,164,null,null,null,null,null,null,null,null,null,202,23.333856045162303,0.63201348577739513,569.10000000000457]
["21:15:09",18,107,null,null,null,null,null,null,null,null,null,203,23.333856045162303,0.63201348577739513,568.20000000000459]
["21:15:09",16,154,null,null,null,null,null,null,null,null,null,204,20.741205373477602,0.68316600822477647,567.30000000000462]
["21:15:09",18,152,null,null,null,null,null,null,null,null,null,205,23.333856045162303,0.63201348577739513,566.40000000000464]
["21:15:09",18,110,null,null,null,null,null,null,null,null,null,206,23.333856045162303,0.63201348577739513,565.50000000000466]
["21:15:09",18,163,null,null,null,null,null,null,null,null,null,207,23.333856045162303,0.63201348577739513,564.60000000000468]
["21:15:09",19,132,null,null,null,null,null,null,null,null,null,208,24.63018138100465,0.60853238992787229,563.70000000000471]
["21:15:09",18,114,null,null,null,null,null,null,null,null,null,209,23.333856045162303,0.63201348577739513,562.80000000000473]
["21:15:09",18,175,null,null,null,null,null,null,null,null,null,210,23.333856045162303,0.63201348577739513,561.90000000000475]
["21:15:10",20,185,null,null,null,null,null,null,null,null,null,211,25.926506716847005,0.58625599521672001,561.00000000000477]
["21:15:10",20,124,null,null,null,null,null,null,null,null,null,212,25.926506716847005,0.58625599521672001,560.1000000000048]
["21:15:10",18,116,null,null,null,null,null,null,null,null,null,213,23.333856045162303,0.63201348577739513,559.20000000000482]
["21:15:10",19,172,null,null,null,null,null,null,null,null,null,214,24.63018138100465,0.60853238992787229,558.30000000000484]
["21:15:10",20,190,null,null,null,null,null,null,null,null,null,215,25.926506716847005,0.58625599521672001,557.40000000000487]
["21:15:10",20,134,null,null,null,null,null,null,null,null,null,216,25.926506716847005,0.58625599521672001,556.50000000000489]
["21:15:10",18,115,null,null,null,null,null,null,null,null,null,217,23.333856045162303,0.63201348577739513,555.60000000000491]
["21:15:10",19,171,null,null,null,null,null,null,null,null,null,218,24.63018138100465,0.60853238992787229,554.70000000000493]
["21:15:10",20,197,null,null,null,null,null,null,null,null,null,219,25.926506716847005,0.58625599521672001,553.80000000000496]
["21:15:10",21,143,null,null,null,null,null,null,null,null,null,220,27.222832052689355,0.56506669614678195,552.90000000000498]
["21:15:10",19,114,null,null,null,null,null,null,null,null,null,221,24.63018138100465,0.60853238992787229,552.000000000005]
["21:15:10",18,169,null,null,null,null,null,null,null,null,null,222,23.333856045162303,0.63201348577739513,551.10000000000502]
["21:15:11",20,110,null,null,null,null,null,null,null,null,null,223,25.926506716847005,0.58625599521672001,550.20000000000505]
["21:15:11",18,133,null,null,null,null,null,null,null,null,null,224,23.333856045162303,0.63201348577739513,549.30000000000507]
["21:15:11",19,169,null,null,null,null,null,null,null,null,null,225,24.63018138100465,0.60853238992787229,548.40000000000509]
["21:15:11",19,124,null,null,null,null,null,null,null,null,null,226,24.63018138100465,0.60853238992787229,547.50000000000512]
["21:15:11",18,163,null,null,null,null,null,null,null,null,null,227,23.333856045162303,0.63201348577739513,546.60000000000514]
["21:15:11",19,133,null,null,null,null,null,null,null,null,null,228,24.63018138100465,0.60853238992787229,545.70000000000516]
["21:15:11",19,128,null,null,null,null,null,null,null,null,null,229,24.63018138100465,0.60853238992787229,544.80000000000518]
["21:15:11",19,185,null,null,null,null,null,null,null,null,null,230,24.63018138100465,0.60853238992787229,543.90000000000521]
["21:15:11",19,203,null,null,null,null,null,null,null,null,null,231,24.63018138100465,0.60853238992787229,543.00000000000523]
["21:15:11",20,149,null,null,null,null,null,null,null,null,null,232,25.926506716847005,0.58625599521672001,542.10000000000525]
["21:15:11",18,126,null,null,null,null,null,null,null,null,null,233,23.333856045162303,0.63201348577739513,541.20000000000528]
["21:15:11",18,186,null,null,null,null,null,null,null,null,null,234,23.333856045162303,0.63201348577739513,540.3000000000053]
["21:15:11",19,206,null,null,null,null,null,null,null,null,null,235,24.63018138100465,0.60853238992787229,539.40000000000532]
["21:15:12",20,151,null,null,null,null,null,null,null,null,null,236,25.926506716847005,0.58625599521672001,538.50000000000534]
["21:15:12",18,125,null,null,null,null,null,null,null,null,null,237,23.333856045162303,0.63201348577739513,537.60000000000537]
["21:15:12",18,164,null,null,null,null,null,null,null,null,null,238,23.333856045162303,0.63201348577739513,536.70000000000539]
["21:15:12",20,115,null,null,null,null,null,null,null,null,null,239,25.926506716847005,0.58625599521672001,535.80000000000541]
["21:15:12",16,127,null,null,null,null,null,null,null,null,null,240,20.741205373477602,0.68316600822477647,534.90000000000543]
["21:15:12",19,172,null,null,null,null,null,null,null,null,null,241,24.63018138100465,0.60853238992787229,534.00000000000546]
["21:15:12",16,119,null,null,null,null,null,null,null,null,null,242,20.741205373477602,0.68316600822477647,533.10000000000548]
["21:15:12",18,156,null,null,null,null,null,null,null,null,null,243,23.333856045162303,0.63201348577739513,532.2000000000055]
["21:15:12",16,147,null,null,null,null,null,null,null,null,null,244,20.741205373477602,0.68316600822477647,531.30000000000553]
["21:15:12",16,120,null,null,null,null,null,null,null,null,null,245,20.741205373477602,0.68316600822477647,530.40000000000555]
["21:15:12",18,162,null,null,null,null,null,null,null,null,null,246,23.333856045162303,0.63201348577739513,529.50000000000557]
["21:15:12",19,112,null,null,null,null,null,null,null,null,null,247,24.63018138100465,0.60853238992787229,528.60000000000559]
["21:15:12",15,124,null,null,null,null,null,null,null,null,null,248,19.444880037635251,0.71119473182502002,527.70000000000562]
["21:15:12",18,162,null,null,null,null,null,null,null,null,null,249,23.333856045162303,0.63201348577739513,526.80000000000564]
["21:15:13",16,116,null,null,null,null,null,null,null,null,null,250,20.741205373477602,0.68316600822477647,525.90000000000566]
["21:15:13",18,152,null,null,null,null,null,null,null,null,null,251,23.333856045162303,0.63201348577739513,525.00000000000568]
["21:15:13",18,135,null,null,null,null,null,null,null,null,null,252,23.333856045162303,0.63201348577739513,524.10000000000571]
["21:15:13",13,118,null,null,null,null,null,null,null,null,null,253,16.852229365950553,0.77334263857386443,523.20000000000573]
["21:15:13",16,159,null,null,null,null,null,null,null,null,null,254,20.741205373477602,0.68316600822477647,522.30000000000575]
["21:15:13",18,102,null,null,null,null,null,null,null,null,null,255,23.333856045162303,0.63201348577739513,521.40000000000578]
["21:15:13",15,120,null,null,null,null,null,null,null,null,null,256,19.444880037635251,0.71119473182502002,520.5000000000058]
["21:15:13",18,153,null,null,null,null,null,null,null,null,null,257,23.333856045162303,0.63201348577739513,519.60000000000582]
["21:15:13",16,112,null,null,null,null,null,null,null,null,null,258,{"$f":"(((B259/L$2)*100))","v":20.741205373477602},{"$f":"-LOG(N259/100)","v":0.68316600822477647},518.70000000000584]
["21:15:13",16,151,null,null,null,null,null,null,null,null,null,259,20.741205373477602,0.68316600822477647,{"$f":"P259-0.9","v":517.80000000000587}]
["21:15:13",18,125,null,null,null,null,null,null,null,null,null,260,23.333856045162303,0.63201348577739513,516.90000000000589]
["21:15:13",15,115,null,null,null,null,null,null,null,null,null,261,19.444880037635251,0.71119473182502002,516.00000000000591]
["21:15:13",18,172,null,null,null,null,null,null,null,null,null,262,23.333856045162303,0.63201348577739513,515.10000000000593]
["21:15:14",16,191,null,null,null,null,null,null,null,null,null,263,20.741205373477602,0.68316600822477647,514.20000000000596]
["21:15:14",16,206,null,null,null,null,null,null,null,null,null,264,20.741205373477602,0.68316600822477647,513.30000000000598]
["21:15:14",18,159,null,null,null,null,null,null,null,null,null,265,23.333856045162303,0.63201348577739513,512.400000000006]
["21:15:14",15,107,null,null,null,null,null,null,null,null,null,266,19.444880037635251,0.71119473182502002,511.50000000000603]
["21:15:14",15,142,null,null,null,null,null,null,null,null,null,267,19.444880037635251,0.71119473182502002,510.60000000000605]
["21:15:14",16,129,null,null,null,null,null,null,null,null,null,268,20.741205373477602,0.68316600822477647,509.70000000000607]
["21:15:14",15,110,null,null,null,null,null,null,null,null,null,269,19.444880037635251,0.71119473182502002,508.80000000000609]
["21:15:14",15,149,null,null,null,null,null,null,null,null,null,270,19.444880037635251,0.71119473182502002,507.90000000000612]
["21:15:14",18,91,null,null,null,null,null,null,null,null,null,271,23.333856045162303,0.63201348577739513,507.00000000000614]
["21:15:14",13,136,null,null,null,null,null,null,null,null,null,272,16.852229365950553,0.77334263857386443,506.10000000000616]
["21:15:14",18,146,null,null,null,null,null,null,null,null,null,273,23.333856045162303,0.63201348577739513,505.20000000000618]
["21:15:14",14,105,null,null,null,null,null,null,null,null,null,274,18.1485547017929,0.7411579552024633,504.30000000000621]
["21:15:14",15,135,null,null,null,null,null,null,null,null,null,275,19.444880037635251,0.71119473182502002,503.40000000000623]
["21:15:15",18,75,null,null,null,null,null,null,null,null,null,276,23.333856045162303,0.63201348577739513,502.50000000000625]
["21:15:15",14,128,null,null,null,null,null,null,null,null,null,277,18.1485547017929,0.7411579552024633,501.60000000000628]
["21:15:15",15,163,null,null,null,null,null,null,null,null,null,278,19.444880037635251,0.71119473182502002,500.7000000000063]
["21:15:15",15,181,null,null,null,null,null,null,null,null,null,279,19.444880037635251,0.71119473182502002,499.80000000000632]
["21:15:15",13,196,null,null,null,null,null,null,null,null,null,280,16.852229365950553,0.77334263857386443,498.90000000000634]
["21:15:15",16,149,null,null,null,null,null,null,null,null,null,281,20.741205373477602,0.68316600822477647,498.00000000000637]
["21:15:15",12,118,null,null,null,null,null,null,null,null,null,282,15.5559040301082,0.80810474483307648,497.10000000000639]
["21:15:15",15,79,null,null,null,null,null,null,null,null,null,283,19.444880037635251,0.71119473182502002,496.20000000000641]
["21:15:15",12,132,null,null,null,null,null,null,null,null,null,284,15.5559040301082,0.80810474483307648,495.30000000000643]
["21:15:15",15,141,null,null,null,null,null,null,null,null,null,285,19.444880037635251,0.71119473182502002,494.40000000000646]
["21:15:15",14,100,null,null,null,null,null,null,null,null,null,286,18.1485547017929,0.7411579552024633,493.50000000000648]
["21:15:15",14,136,null,null,null,null,null,null,null,null,null,287,18.1485547017929,0.7411579552024633,492.6000000000065]
["21:15:15",15,103,null,null,null,null,null,null,null,null,null,288,19.444880037635251,0.71119473182502002,491.70000000000653]
["21:15:15",14,103,null,null,null,null,null,null,null,null,null,289,18.1485547017929,0.7411579552024633,490.80000000000655]
["21:15:16",14,150,null,null,null,null,null,null,null,null,null,290,18.1485547017929,0.7411579552024633,489.90000000000657]
["21:15:16",15,94,null,null,null,null,null,null,null,null,null,291,19.444880037635251,0.71119473182502002,489.00000000000659]
["21:15:16",14,88,null,null,null,null,null,null,null,null,null,292,18.1485547017929,0.7411579552024633,488.10000000000662]
["21:15:16",11,121,null,null,null,null,null,null,null,null,null,293,14.259578694265851,0.84589330572247623,487.20000000000664]
["21:15:16",15,60,null,null,null,null,null,null,null,null,null,294,19.444880037635251,0.71119473182502002,486.30000000000666]
["21:15:16",11,112,null,null,null,null,null,null,null,null,null,295,14.259578694265851,0.84589330572247623,485.40000000000668]
["21:15:16",14,75,null,null,null,null,null,null,null,null,null,296,18.1485547017929,0.7411579552024633,484.50000000000671]
["21:15:16",12,124,null,null,null,null,null,null,null,null,null,297,15.5559040301082,0.80810474483307648,483.60000000000673]
["21:15:16",15,127,null,null,null,null,null,null,null,null,null,298,19.444880037635251,0.71119473182502002,482.70000000000675]
["21:15:16",11,94,null,null,null,null,null,null,null,null,null,299,14.259578694265851,0.84589330572247623,481.80000000000678]
["21:15:16",13,129,null,null,null,null,null,null,null,null,null,300,16.852229365950553,0.77334263857386443,480.9000000000068]
["21:15:16",14,95,null,null,null,null,null,null,null,null,null,301,18.1485547017929,0.7411579552024633,480.00000000000682]
["21:15:16",11,115,null,null,null,null,null,null,null,null,null,302,14.259578694265851,0.84589330572247623,479.10000000000684]
["21:15:16",14,58,null,null,null,null,null,null,null,null,null,303,18.1485547017929,0.7411579552024633,478.20000000000687]
["21:15:17",11,100,null,null,null,null,null,null,null,null,null,304,14.259578694265851,0.84589330572247623,477.30000000000689]
["21:15:17",13,60,null,null,null,null,null,null,null,null,null,305,16.852229365950553,0.77334263857386443,476.40000000000691]
["21:15:17",11,115,null,null,null,null,null,null,null,null,null,306,14.259578694265851,0.84589330572247623,475.50000000000693]
["21:15:17",13,55,null,null,null,null,null,null,null,null,null,307,16.852229365950553,0.77334263857386443,474.60000000000696]
["21:15:17",11,105,null,null,null,null,null,null,null,null,null,308,14.259578694265851,0.84589330572247623,473.70000000000698]
["21:15:17",13,58,null,null,null,null,null,null,null,null,null,309,16.852229365950553,0.77334263857386443,472.800000000007]
["21:15:17",11,115,null,null,null,null,null,null,null,null,null,310,14.259578694265851,0.84589330572247623,471.90000000000703]
["21:15:17",10,136,null,null,null,null,null,null,null,null,null,311,12.963253358423502,0.88728599088070126,471.00000000000705]
["21:15:17",14,140,null,null,null,null,null,null,null,null,null,312,18.1485547017929,0.7411579552024633,470.10000000000707]
["21:15:17",10,95,null,null,null,null,null,null,null,null,null,313,12.963253358423502,0.88728599088070126,469.20000000000709]
["21:15:17",12,56,null,null,null,null,null,null,null,null,null,314,15.5559040301082,0.80810474483307648,468.30000000000712]
["21:15:17",11,105,null,null,null,null,null,null,null,null,null,315,14.259578694265851,0.84589330572247623,467.40000000000714]
["21:15:17",13,51,null,null,null,null,null,null,null,null,null,316,16.852229365950553,0.77334263857386443,466.50000000000716]
["21:15:17",9,95,null,null,null,null,null,null,null,null,null,317,11.666928022581152,0.93304348144137628,465.60000000000719]
["21:15:18",12,54,null,null,null,null,null,null,null,null,null,318,15.5559040301082,0.80810474483307648,464.70000000000721]
["21:15:18",10,105,null,null,null,null,null,null,null,null,null,319,12.963253358423502,0.88728599088070126,463.80000000000723]
["21:15:18",12,50,null,null,null,null,null,null,null,null,null,320,15.5559040301082,0.80810474483307648,462.90000000000725]
["21:15:18",9,93,null,null,null,null,null,null,null,null,null,321,11.666928022581152,0.93304348144137628,462.00000000000728]
["21:15:18",11,51,null,null,null,null,null,null,null,null,null,322,{"$f":"(((B323/L$2)*100))","v":14.259578694265851},{"$f":"-LOG(N323/100)","v":0.84589330572247623},461.1000000000073]
["21:15:18",9,103,null,null,null,null,null,null,null,null,null,323,11.666928022581152,0.93304348144137628,{"$f":"P323-0.9","v":460.20000000000732}]
["21:15:18",12,54,null,null,null,null,null,null,null,null,null,324,15.5559040301082,0.80810474483307648,459.30000000000734]
["21:15:18",10,93,null,null,null,null,null,null,null,null,null,325,12.963253358423502,0.88728599088070126,458.40000000000737]
["21:15:18",12,50,null,null,null,null,null,null,null,null,null,326,15.5559040301082,0.80810474483307648,457.50000000000739]
["21:15:18",9,102,null,null,null,null,null,null,null,null,null,327,11.666928022581152,0.93304348144137628,456.60000000000741]
["21:15:18",12,51,null,null,null,null,null,null,null,null,null,328,15.5559040301082,0.80810474483307648,455.70000000000744]
["21:15:18",9,91,null,null,null,null,null,null,null,null,null,329,11.666928022581152,0.93304348144137628,454.80000000000746]
["21:15:18",10,49,null,null,null,null,null,null,null,null,null,330,12.963253358423502,0.88728599088070126,453.90000000000748]
["21:15:18",7,102,null,null,null,null,null,null,null,null,null,331,9.07427735089645,1.0421879508664444,453.0000000000075]
["21:15:18",10,46,null,null,null,null,null,null,null,null,null,332,12.963253358423502,0.88728599088070126,452.10000000000753]
["21:15:19",6,90,null,null,null,null,null,null,null,null,null,333,7.7779520150541002,1.1091347404970577,451.20000000000755]
["21:15:19",10,47,null,null,null,null,null,null,null,null,null,334,12.963253358423502,0.88728599088070126,450.30000000000757]
["21:15:19",5,101,null,null,null,null,null,null,null,null,null,335,6.4816266792117512,1.1883159865446824,449.40000000000759]
["21:15:19",10,48,null,null,null,null,null,null,null,null,null,336,12.963253358423502,0.88728599088070126,448.50000000000762]
["21:15:19",7,90,null,null,null,null,null,null,null,null,null,337,9.07427735089645,1.0421879508664444,447.60000000000764]
["21:15:19",10,47,null,null,null,null,null,null,null,null,null,338,12.963253358423502,0.88728599088070126,446.70000000000766]
["21:15:19",6,100,null,null,null,null,null,null,null,null,null,339,7.7779520150541002,1.1091347404970577,445.80000000000769]
["21:15:19",10,47,null,null,null,null,null,null,null,null,null,340,12.963253358423502,0.88728599088070126,444.90000000000771]
["21:15:19",7,89,null,null,null,null,null,null,null,null,null,341,9.07427735089645,1.0421879508664444,444.00000000000773]
["21:15:19",9,45,null,null,null,null,null,null,null,null,null,342,11.666928022581152,0.93304348144137628,443.10000000000775]
["21:15:19",7,100,null,null,null,null,null,null,null,null,null,343,9.07427735089645,1.0421879508664444,442.20000000000778]
["21:15:19",9,46,null,null,null,null,null,null,null,null,null,344,11.666928022581152,0.93304348144137628,441.3000000000078]
["21:15:19",5,88,null,null,null,null,null,null,null,null,null,345,6.4816266792117512,1.1883159865446824,440.40000000000782]
["21:15:19",9,42,null,null,null,null,null,null,null,null,null,346,11.666928022581152,0.93304348144137628,439.50000000000784]
["21:15:19",6,100,null,null,null,null,null,null,null,null,null,347,7.7779520150541002,1.1091347404970577,438.60000000000787]
["21:15:20",9,46,null,null,null,null,null,null,null,null,null,348,11.666928022581152,0.93304348144137628,437.70000000000789]
["21:15:20",5,88,null,null,null,null,null,null,null,null,null,349,6.4816266792117512,1.1883159865446824,436.80000000000791]
["21:15:20",9,42,null,null,null,null,null,null,null,null,null,350,11.666928022581152,0.93304348144137628,435.90000000000794]
["21:15:20",6,100,null,null,null,null,null,null,null,null,null,351,7.7779520150541002,1.1091347404970577,435.00000000000796]
["21:15:20",9,45,null,null,null,null,null,null,null,null,null,352,11.666928022581152,0.93304348144137628,434.10000000000798]
["21:15:20",6,86,null,null,null,null,null,null,null,null,null,353,7.7779520150541002,1.1091347404970577,433.200000000008]
["21:15:20",7,42,null,null,null,null,null,null,null,null,null,354,9.07427735089645,1.0421879508664444,432.30000000000803]
["21:15:20",4,101,null,null,null,null,null,null,null,null,null,355,5.1853013433694004,1.2852259995527389,431.40000000000805]
["21:15:20",7,44,null,null,null,null,null,null,null,null,null,356,9.07427735089645,1.0421879508664444,430.50000000000807]
["21:15:20",5,88,null,null,null,null,null,null,null,null,null,357,6.4816266792117512,1.1883159865446824,429.60000000000809]
["21:15:20",6,40,null,null,null,null,null,null,null,null,null,358,7.7779520150541002,1.1091347404970577,428.70000000000812]
["21:15:20",5,75,null,null,null,null,null,null,null,null,null,359,6.4816266792117512,1.1883159865446824,427.80000000000814]
["21:15:20",6,37,null,null,null,null,null,null,null,null,null,360,7.7779520150541002,1.1091347404970577,426.90000000000816]
["21:15:20",5,86,null,null,null,null,null,null,null,null,null,361,6.4816266792117512,1.1883159865446824,426.00000000000819]
["21:15:21",6,40,null,null,null,null,null,null,null,null,null,362,7.7779520150541002,1.1091347404970577,425.10000000000821]
["21:15:21",4,74,null,null,null,null,null,null,null,null,null,363,5.1853013433694004,1.2852259995527389,424.20000000000823]
["21:15:21",7,38,null,null,null,null,null,null,null,null,null,364,9.07427735089645,1.0421879508664444,423.30000000000825]
["21:15:21",4,86,null,null,null,null,null,null,null,null,null,365,5.1853013433694004,1.2852259995527389,422.40000000000828]
["21:15:21",6,38,null,null,null,null,null,null,null,null,null,366,7.7779520150541002,1.1091347404970577,421.5000000000083]
["21:15:21",4,75,null,null,null,null,null,null,null,null,null,367,5.1853013433694004,1.2852259995527389,420.60000000000832]
["21:15:21",5,37,null,null,null,null,null,null,null,null,null,368,6.4816266792117512,1.1883159865446824,419.70000000000834]
["21:15:21",3,89,null,null,null,null,null,null,null,null,null,369,3.8889760075270501,1.4101647361610388,418.80000000000837]
["21:15:21",5,39,null,null,null,null,null,null,null,null,null,370,6.4816266792117512,1.1883159865446824,417.90000000000839]
["21:15:21",3,77,null,null,null,null,null,null,null,null,null,371,3.8889760075270501,1.4101647361610388,417.00000000000841]
["21:15:21",5,36,null,null,null,null,null,null,null,null,null,372,6.4816266792117512,1.1883159865446824,416.10000000000844]
["21:15:21",4,85,null,null,null,null,null,null,null,null,null,373,5.1853013433694004,1.2852259995527389,415.20000000000846]
["21:15:21",5,45,null,null,null,null,null,null,null,null,null,374,6.4816266792117512,1.1883159865446824,414.30000000000848]
["21:15:21",4,94,null,null,null,null,null,null,null,null,null,375,5.1853013433694004,1.2852259995527389,413.4000000000085]
["21:15:21",3,58,null,null,null,null,null,null,null,null,null,376,3.8889760075270501,1.4101647361610388,412.50000000000853]
["21:15:22",4,31,null,null,null,null,null,null,null,null,null,377,5.1853013433694004,1.2852259995527389,411.60000000000855]
["21:15:22",3,89,null,null,null,null,null,null,null,null,null,378,3.8889760075270501,1.4101647361610388,410.70000000000857]
["21:15:22",5,38,null,null,null,null,null,null,null,null,null,379,6.4816266792117512,1.1883159865446824,409.80000000000859]
["21:15:22",2,77,null,null,null,null,null,null,null,null,null,380,2.5926506716847002,1.5862559952167201,408.90000000000862]
["21:15:22",5,36,null,null,null,null,null,null,null,null,null,381,6.4816266792117512,1.1883159865446824,408.00000000000864]
["21:15:22",3,94,null,null,null,null,null,null,null,null,null,382,3.8889760075270501,1.4101647361610388,407.10000000000866]
["21:15:22",6,41,null,null,null,null,null,null,null,null,null,383,7.7779520150541002,1.1091347404970577,406.20000000000869]
["21:15:22",4,80,null,null,null,null,null,null,null,null,null,384,5.1853013433694004,1.2852259995527389,405.30000000000871]
["21:15:22",5,37,null,null,null,null,null,null,null,null,null,385,6.4816266792117512,1.1883159865446824,404.40000000000873]
["21:15:22",4,72,null,null,null,null,null,null,null,null,null,386,{"$f":"(((B387/L$2)*100))","v":5.1853013433694004},{"$f":"-LOG(N387/100)","v":1.2852259995527389},403.50000000000875]
["21:15:22",4,36,null,null,null,null,null,null,null,null,null,387,5.1853013433694004,1.2852259995527389,{"$f":"P387-0.9","v":402.60000000000878}]
["21:15:22",3,85,null,null,null,null,null,null,null,null,null,388,3.8889760075270501,1.4101647361610388,401.7000000000088]
["21:15:22",4,38,null,null,null,null,null,null,null,null,null,389,5.1853013433694004,1.2852259995527389,400.80000000000882]
["21:15:22",3,75,null,null,null,null,null,null,null,null,null,390,3.8889760075270501,1.4101647361610388,399.90000000000884]
["21:15:22",6,36,null,null,null,null,null,null,null,null,null,391,7.7779520150541002,1.1091347404970577,399.00000000000887]
["21:15:23",4,91,null,null,null,null,null,null,null,null,null,392,5.1853013433694004,1.2852259995527389,398.10000000000889]
["21:15:23",6,39,null,null,null,null,null,null,null,null,null,393,7.7779520150541002,1.1091347404970577,397.20000000000891]
["21:15:23",4,76,null,null,null,null,null,null,null,null,null,394,5.1853013433694004,1.2852259995527389,396.30000000000894]
["21:15:23",5,38,null,null,null,null,null,null,null,null,null,395,6.4816266792117512,1.1883159865446824,395.40000000000896]
["21:15:23",4,91,null,null,null,null,null,null,null,null,null,396,5.1853013433694004,1.2852259995527389,394.50000000000898]
["21:15:23",6,40,null,null,null,null,null,null,null,null,null,397,7.7779520150541002,1.1091347404970577,393.600000000009]
["21:15:23",3,82,null,null,null,null,null,null,null,null,null,398,3.8889760075270501,1.4101647361610388,392.70000000000903]
["21:15:23",6,38,null,null,null,null,null,null,null,null,null,399,7.7779520150541002,1.1091347404970577,391.80000000000905]
["21:15:23",4,99,null,null,null,null,null,null,null,null,null,400,5.1853013433694004,1.2852259995527389,390.90000000000907]
["21:15:23",6,41,null,null,null,null,null,null,null,null,null,401,7.7779520150541002,1.1091347404970577,390.00000000000909]
["21:15:23",4,88,null,null,null,null,null,null,null,null,null,402,5.1853013433694004,1.2852259995527389,389.10000000000912]
["21:15:23",6,39,null,null,null,null,null,null,null,null,null,403,7.7779520150541002,1.1091347404970577,388.20000000000914]
["21:15:23",4,81,null,null,null,null,null,null,null,null,null,404,5.1853013433694004,1.2852259995527389,387.30000000000916]
["21:15:23",6,38,null,null,null,null,null,null,null,null,null,405,7.7779520150541002,1.1091347404970577,386.40000000000919]
["21:15:23",4,94,null,null,null,null,null,null,null,null,null,406,5.1853013433694004,1.2852259995527389,385.50000000000921]
["21:15:24",6,40,null,null,null,null,null,null,null,null,null,407,7.7779520150541002,1.1091347404970577,384.60000000000923]
["21:15:24",5,85,null,null,null,null,null,null,null,null,null,408,6.4816266792117512,1.1883159865446824,383.70000000000925]
["21:15:24",7,39,null,null,null,null,null,null,null,null,null,409,9.07427735089645,1.0421879508664444,382.80000000000928]
["21:15:24",5,100,null,null,null,null,null,null,null,null,null,410,6.4816266792117512,1.1883159865446824,381.9000000000093]
["21:15:24",9,44,null,null,null,null,null,null,null,null,null,411,11.666928022581152,0.93304348144137628,381.00000000000932]
["21:15:24",5,90,null,null,null,null,null,null,null,null,null,412,6.4816266792117512,1.1883159865446824,380.10000000000935]
["21:15:24",7,42,null,null,null,null,null,null,null,null,null,413,9.07427735089645,1.0421879508664444,379.20000000000937]
["21:15:24",5,83,null,null,null,null,null,null,null,null,null,414,6.4816266792117512,1.1883159865446824,378.30000000000939]
["21:15:24",7,92,null,null,null,null,null,null,null,null,null,415,9.07427735089645,1.0421879508664444,377.40000000000941]
["21:15:24",9,50,null,null,null,null,null,null,null,null,null,416,11.666928022581152,0.93304348144137628,376.50000000000944]
["21:15:24",3,89,null,null,null,null,null,null,null,null,null,417,3.8889760075270501,1.4101647361610388,375.60000000000946]
["21:15:24",7,40,null,null,null,null,null,null,null,null,null,418,9.07427735089645,1.0421879508664444,374.70000000000948]
["21:15:24",5,80,null,null,null,null,null,null,null,null,null,419,6.4816266792117512,1.1883159865446824,373.8000000000095]
["21:15:24",9,38,null,null,null,null,null,null,null,null,null,420,11.666928022581152,0.93304348144137628,372.90000000000953]
["21:15:25",6,92,null,null,null,null,null,null,null,null,null,421,7.7779520150541002,1.1091347404970577,372.00000000000955]
["21:15:25",7,39,null,null,null,null,null,null,null,null,null,422,9.07427735089645,1.0421879508664444,371.10000000000957]
["21:15:25",5,82,null,null,null,null,null,null,null,null,null,423,6.4816266792117512,1.1883159865446824,370.2000000000096]
["21:15:25",10,48,null,null,null,null,null,null,null,null,null,424,12.963253358423502,0.88728599088070126,369.30000000000962]
["21:15:25",6,100,null,null,null,null,null,null,null,null,null,425,7.7779520150541002,1.1091347404970577,368.40000000000964]
["21:15:25",11,46,null,null,null,null,null,null,null,null,null,426,14.259578694265851,0.84589330572247623,367.50000000000966]
["21:15:25",7,90,null,null,null,null,null,null,null,null,null,427,9.07427735089645,1.0421879508664444,366.60000000000969]
["21:15:25",10,42,null,null,null,null,null,null,null,null,null,428,12.963253358423502,0.88728599088070126,365.70000000000971]
["21:15:25",6,81,null,null,null,null,null,null,null,null,null,429,7.7779520150541002,1.1091347404970577,364.80000000000973]
["21:15:25",10,40,null,null,null,null,null,null,null,null,null,430,12.963253358423502,0.88728599088070126,363.90000000000975]
["21:15:25",6,50,null,null,null,null,null,null,null,null,null,431,7.7779520150541002,1.1091347404970577,363.00000000000978]
["21:15:25",7,92,null,null,null,null,null,null,null,null,null,432,9.07427735089645,1.0421879508664444,362.1000000000098]
["21:15:25",11,45,null,null,null,null,null,null,null,null,null,433,14.259578694265851,0.84589330572247623,361.20000000000982]
["21:15:25",6,102,null,null,null,null,null,null,null,null,null,434,7.7779520150541002,1.1091347404970577,360.30000000000985]
["21:15:26",12,47,null,null,null,null,null,null,null,null,null,435,15.5559040301082,0.80810474483307648,359.40000000000987]
["21:15:26",7,93,null,null,null,null,null,null,null,null,null,436,9.07427735089645,1.0421879508664444,358.50000000000989]
["21:15:26",11,45,null,null,null,null,null,null,null,null,null,437,14.259578694265851,0.84589330572247623,357.60000000000991]
["21:15:26",9,84,null,null,null,null,null,null,null,null,null,438,11.666928022581152,0.93304348144137628,356.70000000000994]
["21:15:26",11,42,null,null,null,null,null,null,null,null,null,439,14.259578694265851,0.84589330572247623,355.80000000000996]
["21:15:26",7,97,null,null,null,null,null,null,null,null,null,440,9.07427735089645,1.0421879508664444,354.90000000000998]
["21:15:26",13,41,null,null,null,null,null,null,null,null,null,441,16.852229365950553,0.77334263857386443,354.00000000001]
["21:15:26",5,90,null,null,null,null,null,null,null,null,null,442,6.4816266792117512,1.1883159865446824,353.10000000001003]
["21:15:26",12,45,null,null,null,null,null,null,null,null,null,443,15.5559040301082,0.80810474483307648,352.20000000001005]
["21:15:26",7,106,null,null,null,null,null,null,null,null,null,444,9.07427735089645,1.0421879508664444,351.30000000001007]
["21:15:26",13,48,null,null,null,null,null,null,null,null,null,445,16.852229365950553,0.77334263857386443,350.4000000000101]
["21:15:26",10,95,null,null,null,null,null,null,null,null,null,446,12.963253358423502,0.88728599088070126,349.50000000001012]
["21:15:26",12,46,null,null,null,null,null,null,null,null,null,447,15.5559040301082,0.80810474483307648,348.60000000001014]
["21:15:26",9,86,null,null,null,null,null,null,null,null,null,448,11.666928022581152,0.93304348144137628,347.70000000001016]
["21:15:26",12,42,null,null,null,null,null,null,null,null,null,449,15.5559040301082,0.80810474483307648,346.80000000001019]
["21:15:27",6,98,null,null,null,null,null,null,null,null,null,450,{"$f":"(((B451/L$2)*100))","v":7.7779520150541002},{"$f":"-LOG(N451/100)","v":1.1091347404970577},345.90000000001021]
["21:15:27",13,47,null,null,null,null,null,null,null,null,null,451,16.852229365950553,0.77334263857386443,{"$f":"P451-0.9","v":345.00000000001023}]
["21:15:27",9,89,null,null,null,null,null,null,null,null,null,452,11.666928022581152,0.93304348144137628,344.10000000001025]
["21:15:27",12,44,null,null,null,null,null,null,null,null,null,453,15.5559040301082,0.80810474483307648,343.20000000001028]
["21:15:27",7,100,null,null,null,null,null,null,null,null,null,454,9.07427735089645,1.0421879508664444,342.3000000000103]
["21:15:27",13,46,null,null,null,null,null,null,null,null,null,455,16.852229365950553,0.77334263857386443,341.40000000001032]
["21:15:27",9,90,null,null,null,null,null,null,null,null,null,456,11.666928022581152,0.93304348144137628,340.50000000001035]
["21:15:27",13,45,null,null,null,null,null,null,null,null,null,457,16.852229365950553,0.77334263857386443,339.60000000001037]
["21:15:27",9,102,null,null,null,null,null,null,null,null,null,458,11.666928022581152,0.93304348144137628,338.70000000001039]
["21:15:27",13,47,null,null,null,null,null,null,null,null,null,459,16.852229365950553,0.77334263857386443,337.80000000001041]
["21:15:27",9,89,null,null,null,null,null,null,null,null,null,460,11.666928022581152,0.93304348144137628,336.90000000001044]
["21:15:27",13,44,null,null,null,null,null,null,null,null,null,461,16.852229365950553,0.77334263857386443,336.00000000001046]
["21:15:27",9,103,null,null,null,null,null,null,null,null,null,462,11.666928022581152,0.93304348144137628,335.10000000001048]
["21:15:27",13,47,null,null,null,null,null,null,null,null,null,463,16.852229365950553,0.77334263857386443,334.2000000000105]
["21:15:27",7,90,null,null,null,null,null,null,null,null,null,464,9.07427735089645,1.0421879508664444,333.30000000001053]
["21:15:28",12,42,null,null,null,null,null,null,null,null,null,465,15.5559040301082,0.80810474483307648,332.40000000001055]
["21:15:28",9,80,null,null,null,null,null,null,null,null,null,466,11.666928022581152,0.93304348144137628,331.50000000001057]
["21:15:28",11,40,null,null,null,null,null,null,null,null,null,467,14.259578694265851,0.84589330572247623,330.6000000000106]
["21:15:28",7,88,null,null,null,null,null,null,null,null,null,468,9.07427735089645,1.0421879508664444,329.70000000001062]
["21:15:28",12,41,null,null,null,null,null,null,null,null,null,469,15.5559040301082,0.80810474483307648,328.80000000001064]
["21:15:28",7,100,null,null,null,null,null,null,null,null,null,470,9.07427735089645,1.0421879508664444,327.90000000001066]
["21:15:28",12,44,null,null,null,null,null,null,null,null,null,471,15.5559040301082,0.80810474483307648,327.00000000001069]
["21:15:28",7,89,null,null,null,null,null,null,null,null,null,472,9.07427735089645,1.0421879508664444,326.10000000001071]
["21:15:28",11,40,null,null,null,null,null,null,null,null,null,473,14.259578694265851,0.84589330572247623,325.20000000001073]
["21:15:28",7,100,null,null,null,null,null,null,null,null,null,474,9.07427735089645,1.0421879508664444,324.30000000001075]
["21:15:28",12,42,null,null,null,null,null,null,null,null,null,475,15.5559040301082,0.80810474483307648,323.40000000001078]
["21:15:28",7,85,null,null,null,null,null,null,null,null,null,476,9.07427735089645,1.0421879508664444,322.5000000000108]
["21:15:28",10,38,null,null,null,null,null,null,null,null,null,477,12.963253358423502,0.88728599088070126,321.60000000001082]
["21:15:28",5,97,null,null,null,null,null,null,null,null,null,478,6.4816266792117512,1.1883159865446824,320.70000000001085]
["21:15:29",11,40,null,null,null,null,null,null,null,null,null,479,14.259578694265851,0.84589330572247623,319.80000000001087]
["21:15:29",6,82,null,null,null,null,null,null,null,null,null,480,7.7779520150541002,1.1091347404970577,318.90000000001089]
["21:15:29",9,38,null,null,null,null,null,null,null,null,null,481,11.666928022581152,0.93304348144137628,318.00000000001091]
["21:15:29",5,94,null,null,null,null,null,null,null,null,null,482,6.4816266792117512,1.1883159865446824,317.10000000001094]
["21:15:29",10,38,null,null,null,null,null,null,null,null,null,483,12.963253358423502,0.88728599088070126,316.20000000001096]
["21:15:29",6,79,null,null,null,null,null,null,null,null,null,484,7.7779520150541002,1.1091347404970577,315.30000000001098]
["21:15:29",9,35,null,null,null,null,null,null,null,null,null,485,11.666928022581152,0.93304348144137628,314.400000000011]
["21:15:29",5,90,null,null,null,null,null,null,null,null,null,486,6.4816266792117512,1.1883159865446824,313.50000000001103]
["21:15:29",9,36,null,null,null,null,null,null,null,null,null,487,11.666928022581152,0.93304348144137628,312.60000000001105]
["21:15:29",5,73,null,null,null,null,null,null,null,null,null,488,6.4816266792117512,1.1883159865446824,311.70000000001107]
["21:15:29",7,31,null,null,null,null,null,null,null,null,null,489,9.07427735089645,1.0421879508664444,310.8000000000111]
["21:15:29",4,84,null,null,null,null,null,null,null,null,null,490,5.1853013433694004,1.2852259995527389,309.90000000001112]
["21:15:29",7,32,null,null,null,null,null,null,null,null,null,491,9.07427735089645,1.0421879508664444,309.00000000001114]
["21:15:29",4,68,null,null,null,null,null,null,null,null,null,492,5.1853013433694004,1.2852259995527389,308.10000000001116]
["21:15:29",6,29,null,null,null,null,null,null,null,null,null,493,7.7779520150541002,1.1091347404970577,307.20000000001119]
["21:15:30",3,79,null,null,null,null,null,null,null,null,null,494,3.8889760075270501,1.4101647361610388,306.30000000001121]
["21:15:30",5,30,null,null,null,null,null,null,null,null,null,495,6.4816266792117512,1.1883159865446824,305.40000000001123]
["21:15:30",3,60,null,null,null,null,null,null,null,null,null,496,3.8889760075270501,1.4101647361610388,304.50000000001125]
[null,null,null,null,null,null,null,null,null,null,null,null,497,0,{"$error":"#NUM!"},303.60000000001128]
[null,null,null,null,null,null,null,null,null,null,null,null,498,0,{"$error":"#NUM!"},302.7000000000113]
[null,null,null,null,null,null,null,null,null,null,null,null,499,0,{"$error":"#NUM!"},301.80000000001132]
[null,null,null,null,null,null,null,null,null,null,null,null,500,0,{"$error":"#NUM!"},300.90000000001135]

{"sheet":"Sheet1","index":1,"n_rows":257,"n_cols":15,"rows_kept":257,"cut":false,"hidden":false,"merged":[]}
[null,"Linkit One - Live Data monitored in Excel and displayed using a Dashboard"]
[]
[]
[null,null,null,null,null,null,null,null,null,null,"Value","Degs",null,"x","y"]
[null,"Main Title",null,"Dial 1 - Average",null,null,null,null,null,"Min",{"$f":"D11","v":0},0,null,{"$f":"50-(50*COS(RADIANS(L7)))","v":{"$error":"#REF!"}},{"$f":"50*SIN(RADIANS(L7))","v":{"$error":"#REF!"}}]
[null,null,null,null,null,null,null,null,null,"Max",{"$f":"D13","v":500},180,null,{"$f":"50-(2*COS(RADIANS(L7+90)))","v":{"$error":"#REF!"}},{"$f":"2*SIN(RADIANS(L7+90))","v":{"$error":"#REF!"}}]
[null,"Units",null,null,null,null,null,null,null,"Actual",{"$f":"D9","v":{"$error":"#REF!"}},{"$f":"((K7-K5)/(K6-K5))*180","v":{"$error":"#REF!"}},null,{"$f":"50-(2*COS(RADIANS(L7-90)))","v":{"$error":"#REF!"}},{"$f":"2*SIN(RADIANS(L7-90))","v":{"$error":"#REF!"}}]
[null,null,null,null,null,null,null,null,null,"Scale1",{"$f":"((K6-K5)/5)+K5","v":100},null,null,{"$f":"N5","v":{"$error":"#REF!"}},{"$f":"O5","v":{"$error":"#REF!"}}]
[null,"Actual Value",null,{"$f":"AVERAGE('Simple Data'!#REF!)","v":{"$error":"#REF!"}},null,null,null,null,null,"Scale2",{"$f":"((K6-K5)*2/5)+K5","v":200},null,null,50,0]
[null,null,null,null,null,null,null,null,null,"Scale3",{"$f":"((K6-K5)*3/5) + K5","v":300}]
[null,"Minimum Value",null,0,null,null,null,null,null,"Scale4",{"$f":"((K6-K5)*4/5) + K5","v":400}]
[]
[null,"Maximum Value",null,500]
[]
[]
[]
[]
[null,null,null,null,null,null,null,null,null,null,"Value","Degs",null,"x","y"]
[null,"Main Title",null,"Dial 2 - Max",null,null,null,null,null,"Min",{"$f":"D25","v":0},0,null,{"$f":"50-(50*COS(RADIANS(L21)))","v":{"$error":"#REF!"}},{"$f":"50*SIN(RADIANS(L21))","v":{"$error":"#REF!"}}]
[null,null,null,null,null,null,null,null,null,"Max",{"$f":"D23+80","v":{"$error":"#REF!"}},180,null,{"$f":"50-(2*COS(RADIANS(L21+90)))","v":{"$error":"#REF!"}},{"$f":"2*SIN(RADIANS(L21+90))","v":{"$error":"#REF!"}}]
[null,"Units",null,null,null,null,null,null,null,"Actual",{"$f":"D23","v":{"$error":"#REF!"}},{"$f":"((K21-K19)/(K20-K19))*180","v":{"$error":"#REF!"}},null,{"$f":"50-(2*COS(RADIANS(L21-90)))","v":{"$error":"#REF!"}},{"$f":"2*SIN(RADIANS(L21-90))","v":{"$error":"#REF!"}}]
[null,null,null,null,null,null,null,null,null,"Scale1",{"$f":"((K20-K19)/5)+K19","v":{"$error":"#REF!"}},null,null,{"$f":"N19","v":{"$error":"#REF!"}},{"$f":"O19","v":{"$error":"#REF!"}}]
[null,"Actual Value",null,{"$f":"MAX('Simple Data'!#REF!)","v":{"$error":"#REF!"}},null,null,null,null,null,"Scale2",{"$f":"((K20-K19)*2/5)+K19","v":{"$error":"#REF!"}},null,null,50,0]
[null,null,null,null,null,null,null,null,null,"Scale3",{"$f":"((K20-K19)*3/5) + K19","v":{"$error":"#REF!"}}]
[null,"Minimum Value",null,0,null,null,null,null,null,"Scale4",{"$f":"((K20-K19)*4/5) + K19","v":{"$error":"#REF!"}}]
[]
[null,"Maximum Value",null,700]
[]
[]
[]
[]
[null,null,null,null,null,null,null,null,null,null,"Value","Degs",null,"x","y"]
[null,"Main Title",null,"Dial 3 - Min",null,null,null,null,null,"Min",-25,0,null,{"$f":"50-(50*COS(RADIANS(L35)))","v":{"$error":"#REF!"}},{"$f":"50*SIN(RADIANS(L35))","v":{"$error":"#REF!"}}]
[null,null,null,null,null,null,null,null,null,"Max",200,180,null,{"$f":"50-(2*COS(RADIANS(L35+90)))","v":{"$error":"#REF!"}},{"$f":"2*SIN(RADIANS(L35+90))","v":{"$error":"#REF!"}}]
[null,"Units",null,null,null,null,null,null,null,"Actual",{"$f":"D37","v":{"$error":"#REF!"}},{"$f":"((K35-K33)/(K34-K33))*180","v":{"$error":"#REF!"}},null,{"$f":"50-(2*COS(RADIANS(L35-90)))","v":{"$error":"#REF!"}},{"$f":"2*SIN(RADIANS(L35-90))","v":{"$error":"#REF!"}}]
[null,null,null,null,null,null,null,null,null,"Scale1",{"$f":"((K34-K33)/5)+K33","v":20},null,null,{"$f":"N33","v":{"$error":"#REF!"}},{"$f":"O33","v":{"$error":"#REF!"}}]
[null,"Actual Value",null,{"$f":"MIN('Simple Data'!#REF!)","v":{"$error":"#REF!"}},null,null,null,null,null,"Scale2",{"$f":"((K34-K33)*2/5)+K33","v":65},null,null,50,0]
[null,null,null,null,null,null,null,null,null,"Scale3",{"$f":"((K34-K33)*3/5) + K33","v":110}]
[null,"Minimum Value",null,0,null,null,null,null,null,"Scale4",{"$f":"((K34-K33)*4/5) + K33","v":155}]
[]
[null,"Maximum Value",null,100]
[]
[]
[null,null,"Chart 1 - Monitored value"]
[]
[]
[]
[]
[]
[null,null,"I) Trend Widget "]
[]
[]
[]
[]
[]
[null,null,null,"X","Absorbance","Transmitance","Blank"]
[null,null,null,1,{"$f":"'Simple Data'!#REF!","v":{"$error":"#REF!"}},{"$f":"'Simple Data'!$B2","v":0},{"$f":"'Simple Data'!$C2","v":7}]
[null,null,null,2,{"$f":"'Simple Data'!#REF!","v":{"$error":"#REF!"}},{"$f":"'Simple Data'!$B3","v":0},{"$f":"'Simple Data'!$C3","v":9}]
[null,null,null,3,{"$f":"'Simple Data'!#REF!","v":{"$error":"#REF!"}},{"$f":"'Simple Data'!$B4","v":0},{"$f":"'Simple Data'!$C4","v":7}]
[null,null,null,4,{"$f":"'Simple Data'!#REF!","v":{"$error":"#REF!"}},{"$f":"'Simple Data'!$B5","v":0},{"$f":"'Simple Data'!$C5","v":6}]
[null,null,null,5,{"$f":"'Simple Data'!#REF!","v":{"$error":"#REF!"}},{"$f":"'Simple Data'!$B6","v":0},{"$f":"'Simple Data'!$C6","v":6}]
[null,null,null,6,{"$f":"'Simple Data'!#REF!","v":{"$error":"#REF!"}},{"$f":"'Simple Data'!$B7","v":0},{"$f":"'Simple Data'!$C7","v":7}]
[null,null,null,7,{"$f":"'Simple Data'!#REF!","v":{"$error":"#REF!"}},{"$f":"'Simple Data'!$B8","v":0},{"$f":"'Simple Data'!$C8","v":7}]
[null,null,null,8,{"$f":"'Simple Data'!#REF!","v":{"$error":"#REF!"}},{"$f":"'Simple Data'!$B9","v":0},{"$f":"'Simple Data'!$C9","v":7}]
[null,null,null,9,{"$f":"'Simple Data'!#REF!","v":{"$error":"#REF!"}},{"$f":"'Simple Data'!$B10","v":0},{"$f":"'Simple Data'!$C10","v":7}]
[null,null,null,10,{"$f":"'Simple Data'!#REF!","v":{"$error":"#REF!"}},{"$f":"'Simple Data'!$B11","v":0},{"$f":"'Simple Data'!$C11","v":7}]
[null,null,null,11,{"$f":"'Simple Data'!#REF!","v":{"$error":"#REF!"}},{"$f":"'Simple Data'!$B12","v":0},{"$f":"'Simple Data'!$C12","v":10}]
[null,null,null,12,{"$f":"'Simple Data'!#REF!","v":{"$error":"#REF!"}},{"$f":"'Simple Data'!$B13","v":0},{"$f":"'Simple Data'!$C13","v":9}]
[null,null,null,13,{"$f":"'Simple Data'!#REF!","v":{"$error":"#REF!"}},{"$f":"'Simple Data'!$B14","v":0},{"$f":"'Simple Data'!$C14","v":10}]
[null,null,null,14,{"$f":"'Simple Data'!#REF!","v":{"$error":"#REF!"}},{"$f":"'Simple Data'!$B15","v":0},{"$f":"'Simple Data'!$C15","v":6}]
[null,null,null,15,{"$f":"'Simple Data'!#REF!","v":{"$error":"#REF!"}},{"$f":"'Simple Data'!$B16","v":0},{"$f":"'Simple Data'!$C16","v":10}]
[null,null,null,16,{"$f":"'Simple Data'!#REF!","v":{"$error":"#REF!"}},{"$f":"'Simple Data'!$B17","v":0},{"$f":"'Simple Data'!$C17","v":9}]
[null,null,null,17,{"$f":"'Simple Data'!#REF!","v":{"$error":"#REF!"}},{"$f":"'Simple Data'!$B18","v":0},{"$f":"'Simple Data'!$C18","v":9}]
[null,null,null,18,{"$f":"'Simple Data'!#REF!","v":{"$error":"#REF!"}},{"$f":"'Simple Data'!$B19","v":0},{"$f":"'Simple Data'!$C19","v":9}]
[null,null,null,19,{"$f":"'Simple Data'!#REF!","v":{"$error":"#REF!"}},{"$f":"'Simple Data'!$B20","v":0},{"$f":"'Simple Data'!$C20","v":10}]
[null,null,null,20,{"$f":"'Simple Data'!#REF!","v":{"$error":"#REF!"}},{"$f":"'Simple Data'!$B21","v":0},{"$f":"'Simple Data'!$C21","v":10}]
[null,null,null,21,{"$f":"'Simple Data'!#REF!","v":{"$error":"#REF!"}},{"$f":"'Simple Data'!$B22","v":0},{"$f":"'Simple Data'!$C22","v":10}]
[null,null,null,22,{"$f":"'Simple Data'!#REF!","v":{"$error":"#REF!"}},{"$f":"'Simple Data'!$B23","v":0},{"$f":"'Simple Data'!$C23","v":11}]
[null,null,null,23,{"$f":"'Simple Data'!#REF!","v":{"$error":"#REF!"}},{"$f":"'Simple Data'!$B24","v":0},{"$f":"'Simple Data'!$C24","v":10}]
[null,null,null,24,{"$f":"'Simple Data'!#REF!","v":{"$error":"#REF!"}},{"$f":"'Simple Data'!$B25","v":0},{"$f":"'Simple Data'!$C25","v":10}]
[null,null,null,25,{"$f":"'Simple Data'!#REF!","v":{"$error":"#REF!"}},{"$f":"'Simple Data'!$B26","v":0},{"$f":"'Simple Data'!$C26","v":10}]
[null,null,null,26,{"$f":"'Simple Data'!#REF!","v":{"$error":"#REF!"}},{"$f":"'Simple Data'!$B27","v":0},{"$f":"'Simple Data'!$C27","v":10}]
[null,null,null,27,{"$f":"'Simple Data'!#REF!","v":{"$error":"#REF!"}},{"$f":"'Simple Data'!$B28","v":0},{"$f":"'Simple Data'!$C28","v":12}]
[null,null,null,28,{"$f":"'Simple Data'!#REF!","v":{"$error":"#REF!"}},{"$f":"'Simple Data'!$B29","v":0},{"$f":"'Simple Data'!$C29","v":10}]
[null,null,null,29,{"$f":"'Simple Data'!#REF!","v":{"$error":"#REF!"}},{"$f":"'Simple Data'!$B30","v":0},{"$f":"'Simple Data'!$C30","v":13}]
[null,null,null,30,{"$f":"'Simple Data'!#REF!","v":{"$error":"#REF!"}},{"$f":"'Simple Data'!$B31","v":0},{"$f":"'Simple Data'!$C31","v":10}]
[null,null,null,31,{"$f":"'Simple Data'!#REF!","v":{"$error":"#REF!"}},{"$f":"'Simple Data'!$B32","v":0},{"$f":"'Simple Data'!$C32","v":12}]
[null,null,null,32,{"$f":"'Simple Data'!#REF!","v":{"$error":"#REF!"}},{"$f":"'Simple Data'!$B33","v":0},{"$f":"'Simple Data'!$C33","v":10}]
[null,null,null,33,{"$f":"'Simple Data'!#REF!","v":{"$error":"#REF!"}},{"$f":"'Simple Data'!$B34","v":0},{"$f":"'Simple Data'!$C34","v":12}]
[null,null,null,34,{"$f":"'Simple Data'!#REF!","v":{"$error":"#REF!"}},{"$f":"'Simple Data'!$B35","v":0},{"$f":"'Simple Data'!$C35","v":11}]
[null,null,null,35,{"$f":"'Simple Data'!#REF!","v":{"$error":"#REF!"}},{"$f":"'Simple Data'!$B36","v":0},{"$f":"'Simple Data'!$C36","v":12}]
[null,null,null,36,{"$f":"'Simple Data'!#REF!","v":{"$error":"#REF!"}},{"$f":"'Simple Data'!$B37","v":0},{"$f":"'Simple Data'!$C37","v":14}]
[null,null,null,37,{"$f":"'Simple Data'!#REF!","v":{"$error":"#REF!"}},{"$f":"'Simple Data'!$B38","v":0},{"$f":"'Simple Data'!$C38","v":12}]
[null,null,null,38,{"$f":"'Simple Data'!#REF!","v":{"$error":"#REF!"}},{"$f":"'Simple Data'!$B39","v":0},{"$f":"'Simple Data'!$C39","v":18}]
[null,null,null,39,{"$f":"'Simple Data'!#REF!","v":{"$error":"#REF!"}},{"$f":"'Simple Data'!$B40","v":0},{"$f":"'Simple Data'!$C40","v":12}]
[null,null,null,40,{"$f":"'Simple Data'!#REF!","v":{"$error":"#REF!"}},{"$f":"'Simple Data'!$B41","v":0},{"$f":"'Simple Data'!$C41","v":18}]
[null,null,null,41,{"$f":"'Simple Data'!#REF!","v":{"$error":"#REF!"}},{"$f":"'Simple Data'!$B42","v":0},{"$f":"'Simple Data'!$C42","v":12}]
[null,null,null,42,{"$f":"'Simple Data'!#REF!","v":{"$error":"#REF!"}},{"$f":"'Simple Data'!$B43","v":0},{"$f":"'Simple Data'!$C43","v":16}]
[null,null,null,43,{"$f":"'Simple Data'!#REF!","v":{"$error":"#REF!"}},{"$f":"'Simple Data'!$B44","v":0},{"$f":"'Simple Data'!$C44","v":13}]
[null,null,null,44,{"$f":"'Simple Data'!#REF!","v":{"$error":"#REF!"}},{"$f":"'Simple Data'!$B45","v":0},{"$f":"'Simple Data'!$C45","v":14}]
[null,null,null,45,{"$f":"'Simple Data'!#REF!","v":{"$error":"#REF!"}},{"$f":"'Simple Data'!$B46","v":0},{"$f":"'Simple Data'!$C46","v":14}]
[null,null,null,46,{"$f":"'Simple Data'!#REF!","v":{"$error":"#REF!"}},{"$f":"'Simple Data'!$B47","v":0},{"$f":"'Simple Data'!$C47","v":15}]
[null,null,null,47,{"$f":"'Simple Data'!#REF!","v":{"$error":"#REF!"}},{"$f":"'Simple Data'!$B48","v":0},{"$f":"'Simple Data'!$C48","v":18}]
[null,null,null,48,{"$f":"'Simple Data'!#REF!","v":{"$error":"#REF!"}},{"$f":"'Simple Data'!$B49","v":0},{"$f":"'Simple Data'!$C49","v":15}]
[null,null,null,49,{"$f":"'Simple Data'!#REF!","v":{"$error":"#REF!"}},{"$f":"'Simple Data'!$B50","v":0},{"$f":"'Simple Data'!$C50","v":19}]
[null,null,null,50,{"$f":"'Simple Data'!#REF!","v":{"$error":"#REF!"}},{"$f":"'Simple Data'!$B51","v":0},{"$f":"'Simple Data'!$C51","v":15}]
[null,null,null,51,{"$f":"'Simple Data'!#REF!","v":{"$error":"#REF!"}},{"$f":"'Simple Data'!$B52","v":0},{"$f":"'Simple Data'!$C52","v":20}]
[null,null,null,52,{"$f":"'Simple Data'!#REF!","v":{"$error":"#REF!"}},{"$f":"'Simple Data'!$B53","v":0},{"$f":"'Simple Data'!$C53","v":15}]
[null,null,null,53,{"$f":"'Simple Data'!#REF!","v":{"$error":"#REF!"}},{"$f":"'Simple Data'!$B54","v":0},{"$f":"'Simple Data'!$C54","v":21}]
[null,null,null,54,{"$f":"'Simple Data'!#REF!","v":{"$error":"#REF!"}},{"$f":"'Simple Data'!$B55","v":0},{"$f":"'Simple Data'!$C55","v":16}]
[null,null,null,55,{"$f":"'Simple Data'!#REF!","v":{"$error":"#REF!"}},{"$f":"'Simple Data'!$B56","v":0},{"$f":"'Simple Data'!$C56","v":21}]
[null,null,null,56,{"$f":"'Simple Data'!#REF!","v":{"$error":"#REF!"}},{"$f":"'Simple Data'!$B57","v":0},{"$f":"'Simple Data'!$C57","v":15}]
[null,null,null,57,{"$f":"'Simple Data'!#REF!","v":{"$error":"#REF!"}},{"$f":"'Simple Data'!$B58","v":0},{"$f":"'Simple Data'!$C58","v":20}]
[null,null,null,58,{"$f":"'Simple Data'!#REF!","v":{"$error":"#REF!"}},{"$f":"'Simple Data'!$B59","v":0},{"$f":"'Simple Data'!$C59","v":16}]
[null,null,null,59,{"$f":"'Simple Data'!#REF!","v":{"$error":"#REF!"}},{"$f":"'Simple Data'!$B60","v":0},{"$f":"'Simple Data'!$C60","v":22}]
[null,null,null,60,{"$f":"'Simple Data'!#REF!","v":{"$error":"#REF!"}},{"$f":"'Simple Data'!$B61","v":0},{"$f":"'Simple Data'!$C61","v":19}]
[null,null,null,61,{"$f":"'Simple Data'!#REF!","v":{"$error":"#REF!"}},{"$f":"'Simple Data'!$B62","v":0},{"$f":"'Simple Data'!$C62","v":21}]
[null,null,null,62,{"$f":"'Simple Data'!#REF!","v":{"$error":"#REF!"}},{"$f":"'Simple Data'!$B63","v":0},{"$f":"'Simple Data'!$C63","v":21}]
[null,null,null,63,{"$f":"'Simple Data'!#REF!","v":{"$error":"#REF!"}},{"$f":"'Simple Data'!$B64","v":0},{"$f":"'Simple Data'!$C64","v":22}]
[null,null,null,64,{"$f":"'Simple Data'!#REF!","v":{"$error":"#REF!"}},{"$f":"'Simple Data'!$B65","v":0},{"$f":"'Simple Data'!$C65","v":25}]
[null,null,null,65,{"$f":"'Simple Data'!#REF!","v":{"$error":"#REF!"}},{"$f":"'Simple Data'!$B66","v":0},{"$f":"'Simple Data'!$C66","v":21}]
[null,null,null,66,{"$f":"'Simple Data'!#REF!","v":{"$error":"#REF!"}},{"$f":"'Simple Data'!$B67","v":0},{"$f":"'Simple Data'!$C67","v":28}]
[null,null,null,67,{"$f":"'Simple Data'!#REF!","v":{"$error":"#REF!"}},{"$f":"'Simple Data'!$B68","v":0},{"$f":"'Simple Data'!$C68","v":22}]
[null,null,null,68,{"$f":"'Simple Data'!#REF!","v":{"$error":"#REF!"}},{"$f":"'Simple Data'!$B69","v":1},{"$f":"'Simple Data'!$C69","v":31}]
[null,null,null,69,{"$f":"'Simple Data'!#REF!","v":{"$error":"#REF!"}},{"$f":"'Simple Data'!$B70","v":0},{"$f":"'Simple Data'!$C70","v":22}]
[null,null,null,70,{"$f":"'Simple Data'!#REF!","v":{"$error":"#REF!"}},{"$f":"'Simple Data'!$B71","v":0},{"$f":"'Simple Data'!$C71","v":33}]
[null,null,null,71,{"$f":"'Simple Data'!#REF!","v":{"$error":"#REF!"}},{"$f":"'Simple Data'!$B72","v":0},{"$f":"'Simple Data'!$C72","v":21}]
[null,null,null,72,{"$f":"'Simple Data'!#REF!","v":{"$error":"#REF!"}},{"$f":"'Simple Data'!$B73","v":0},{"$f":"'Simple Data'!$C73","v":30}]
[null,null,null,73,{"$f":"'Simple Data'!#REF!","v":{"$error":"#REF!"}},{"$f":"'Simple Data'!$B74","v":0},{"$f":"'Simple Data'!$C74","v":23}]
[null,null,null,74,{"$f":"'Simple Data'!#REF!","v":{"$error":"#REF!"}},{"$f":"'Simple Data'!$B75","v":2},{"$f":"'Simple Data'!$C75","v":28}]
[null,null,null,75,{"$f":"'Simple Data'!#REF!","v":{"$error":"#REF!"}},{"$f":"'Simple Data'!$B76","v":0},{"$f":"'Simple Data'!$C76","v":28}]
[null,null,null,76,{"$f":"'Simple Data'!#REF!","v":{"$error":"#REF!"}},{"$f":"'Simple Data'!$B77","v":0},{"$f":"'Simple Data'!$C77","v":25}]
[null,null,null,77,{"$f":"'Simple Data'!#REF!","v":{"$error":"#REF!"}},{"$f":"'Simple Data'!$B78","v":0},{"$f":"'Simple Data'!$C78","v":38}]
[null,null,null,78,{"$f":"'Simple Data'!#REF!","v":{"$error":"#REF!"}},{"$f":"'Simple Data'!$B79","v":0},{"$f":"'Simple Data'!$C79","v":25}]
[null,null,null,79,{"$f":"'Simple Data'!#REF!","v":{"$error":"#REF!"}},{"$f":"'Simple Data'!$B80","v":0},{"$f":"'Simple Data'!$C80","v":37}]
[null,null,null,80,{"$f":"'Simple Data'!#REF!","v":{"$error":"#REF!"}},{"$f":"'Simple Data'!$B81","v":0},{"$f":"'Simple Data'!$C81","v":24}]
[null,null,null,81,{"$f":"'Simple Data'!#REF!","v":{"$error":"#REF!"}},{"$f":"'Simple Data'!$B82","v":0},{"$f":"'Simple Data'!$C82","v":36}]
[null,null,null,82,{"$f":"'Simple Data'!#REF!","v":{"$error":"#REF!"}},{"$f":"'Simple Data'!$B83","v":0},{"$f":"'Simple Data'!$C83","v":28}]
[null,null,null,83,{"$f":"'Simple Data'!#REF!","v":{"$error":"#REF!"}},{"$f":"'Simple Data'!$B84","v":1},{"$f":"'Simple Data'!$C84","v":31}]
[null,null,null,84,{"$f":"'Simple Data'!#REF!","v":{"$error":"#REF!"}},{"$f":"'Simple Data'!$B85","v":1},{"$f":"'Simple Data'!$C85","v":41}]
[null,null,null,85,{"$f":"'Simple Data'!#REF!","v":{"$error":"#REF!"}},{"$f":"'Simple Data'!$B86","v":1},{"$f":"'Simple Data'!$C86","v":28}]
[null,null,null,86,{"$f":"'Simple Data'!#REF!","v":{"$error":"#REF!"}},{"$f":"'Simple Data'!$B87","v":1},{"$f":"'Simple Data'!$C87","v":35}]
[null,null,null,87,{"$f":"'Simple Data'!#REF!","v":{"$error":"#REF!"}},{"$f":"'Simple Data'!$B88","v":1},{"$f":"'Simple Data'!$C88","v":42}]
[null,null,null,88,{"$f":"'Simple Data'!#REF!","v":{"$error":"#REF!"}},{"$f":"'Simple Data'!$B89","v":1},{"$f":"'Simple Data'!$C89","v":33}]
[null,null,null,89,{"$f":"'Simple Data'!#REF!","v":{"$error":"#REF!"}},{"$f":"'Simple Data'!$B90","v":1},{"$f":"'Simple Data'!$C90","v":49}]
[null,null,null,90,{"$f":"'Simple Data'!#REF!","v":{"$error":"#REF!"}},{"$f":"'Simple Data'!$B91","v":1},{"$f":"'Simple Data'!$C91","v":32}]
[null,null,null,91,{"$f":"'Simple Data'!#REF!","v":{"$error":"#REF!"}},{"$f":"'Simple Data'!$B92","v":1},{"$f":"'Simple Data'!$C92","v":54}]
[null,null,null,92,{"$f":"'Simple Data'!#REF!","v":{"$error":"#REF!"}},{"$f":"'Simple Data'!$B93","v":1},{"$f":"'Simple Data'!$C93","v":33}]
[null,null,null,93,{"$f":"'Simple Data'!#REF!","v":{"$error":"#REF!"}},{"$f":"'Simple Data'!$B94","v":3},{"$f":"'Simple Data'!$C94","v":54}]
[null,null,null,94,{"$f":"'Simple Data'!#REF!","v":{"$error":"#REF!"}},{"$f":"'Simple Data'!$B95","v":1},{"$f":"'Simple Data'!$C95","v":32}]
[null,null,null,95,{"$f":"'Simple Data'!#REF!","v":{"$error":"#REF!"}},{"$f":"'Simple Data'!$B96","v":2},{"$f":"'Simple Data'!$C96","v":50}]
[null,null,null,96,{"$f":"'Simple Data'!#REF!","v":{"$error":"#REF!"}},{"$f":"'Simple Data'!$B97","v":1},{"$f":"'Simple Data'!$C97","v":32}]
[null,null,null,97,{"$f":"'Simple Data'!#REF!","v":{"$error":"#REF!"}},{"$f":"'Simple Data'!$B98","v":1},{"$f":"'Simple Data'!$C98","v":42}]
[null,null,null,98,{"$f":"'Simple Data'!#REF!","v":{"$error":"#REF!"}},{"$f":"'Simple Data'!$B99","v":2},{"$f":"'Simple Data'!$C99","v":32}]
[null,null,null,99,{"$f":"'Simple Data'!#REF!","v":{"$error":"#REF!"}},{"$f":"'Simple Data'!$B100","v":1},{"$f":"'Simple Data'!$C100","v":45}]
[null,null,null,100,{"$f":"'Simple Data'!#REF!","v":{"$error":"#REF!"}},{"$f":"'Simple Data'!$B101","v":2},{"$f":"'Simple Data'!$C101","v":40}]
[null,null,null,101,{"$f":"'Simple Data'!#REF!","v":{"$error":"#REF!"}},{"$f":"'Simple Data'!$B102","v":2},{"$f":"'Simple Data'!$C102","v":45}]
[null,null,null,102,{"$f":"'Simple Data'!#REF!","v":{"$error":"#REF!"}},{"$f":"'Simple Data'!$B103","v":2},{"$f":"'Simple Data'!$C103","v":51}]
[null,null,null,103,{"$f":"'Simple Data'!#REF!","v":{"$error":"#REF!"}},{"$f":"'Simple Data'!$B104","v":0},{"$f":"'Simple Data'!$C104","v":44}]
[null,null,null,104,{"$f":"'Simple Data'!#REF!","v":{"$error":"#REF!"}},{"$f":"'Simple Data'!$B105","v":2},{"$f":"'Simple Data'!$C105","v":59}]
[null,null,null,105,{"$f":"'Simple Data'!#REF!","v":{"$error":"#REF!"}},{"$f":"'Simple Data'!$B106","v":2},{"$f":"'Simple Data'!$C106","v":44}]
[null,null,null,106,{"$f":"'Simple Data'!#REF!","v":{"$error":"#REF!"}},{"$f":"'Simple Data'!$B107","v":3},{"$f":"'Simple Data'!$C107","v":68}]
[null,null,null,107,{"$f":"'Simple Data'!#REF!","v":{"$error":"#REF!"}},{"$f":"'Simple Data'!$B108","v":3},{"$f":"'Simple Data'!$C108","v":42}]
[null,null,null,108,{"$f":"'Simple Data'!#REF!","v":{"$error":"#REF!"}},{"$f":"'Simple Data'!$B109","v":2},{"$f":"'Simple Data'!$C109","v":75}]
[null,null,null,109,{"$f":"'Simple Data'!#REF!","v":{"$error":"#REF!"}},{"$f":"'Simple Data'!$B110","v":2},{"$f":"'Simple Data'!$C110","v":42}]
[null,null,null,110,{"$f":"'Simple Data'!#REF!","v":{"$error":"#REF!"}},{"$f":"'Simple Data'!$B111","v":4},{"$f":"'Simple Data'!$C111","v":72}]
[null,null,null,111,{"$f":"'Simple Data'!#REF!","v":{"$error":"#REF!"}},{"$f":"'Simple Data'!$B112","v":3},{"$f":"'Simple Data'!$C112","v":41}]
[null,null,null,112,{"$f":"'Simple Data'!#REF!","v":{"$error":"#REF!"}},{"$f":"'Simple Data'!$B113","v":3},{"$f":"'Simple Data'!$C113","v":68}]
[null,null,null,113,{"$f":"'Simple Data'!#REF!","v":{"$error":"#REF!"}},{"$f":"'Simple Data'!$B114","v":3},{"$f":"'Simple Data'!$C114","v":41}]
[null,null,null,114,{"$f":"'Simple Data'!#REF!","v":{"$error":"#REF!"}},{"$f":"'Simple Data'!$B115","v":2},{"$f":"'Simple Data'!$C115","v":66}]
[null,null,null,115,{"$f":"'Simple Data'!#REF!","v":{"$error":"#REF!"}},{"$f":"'Simple Data'!$B116","v":3},{"$f":"'Simple Data'!$C116","v":41}]
[null,null,null,116,{"$f":"'Simple Data'!#REF!","v":{"$error":"#REF!"}},{"$f":"'Simple Data'!$B117","v":3},{"$f":"'Simple Data'!$C117","v":64}]
[null,null,null,117,{"$f":"'Simple Data'!#REF!","v":{"$error":"#REF!"}},{"$f":"'Simple Data'!$B118","v":3},{"$f":"'Simple Data'!$C118","v":41}]
[null,null,null,118,{"$f":"'Simple Data'!#REF!","v":{"$error":"#REF!"}},{"$f":"'Simple Data'!$B119","v":3},{"$f":"'Simple Data'!$C119","v":63}]
[null,null,null,119,{"$f":"'Simple Data'!#REF!","v":{"$error":"#REF!"}},{"$f":"'Simple Data'!$B120","v":4},{"$f":"'Simple Data'!$C120","v":45}]
[null,null,null,120,{"$f":"'Simple Data'!#REF!","v":{"$error":"#REF!"}},{"$f":"'Simple Data'!$B121","v":3},{"$f":"'Simple Data'!$C121","v":62}]
[null,null,null,121,{"$f":"'Simple Data'!#REF!","v":{"$error":"#REF!"}},{"$f":"'Simple Data'!$B122","v":4},{"$f":"'Simple Data'!$C122","v":60}]
[null,null,null,122,{"$f":"'Simple Data'!#REF!","v":{"$error":"#REF!"}},{"$f":"'Simple Data'!$B123","v":4},{"$f":"'Simple Data'!$C123","v":59}]
[null,null,null,123,{"$f":"'Simple Data'!#REF!","v":{"$error":"#REF!"}},{"$f":"'Simple Data'!$B124","v":3},{"$f":"'Simple Data'!$C124","v":73}]
[null,null,null,124,{"$f":"'Simple Data'!#REF!","v":{"$error":"#REF!"}},{"$f":"'Simple Data'!$B125","v":4},{"$f":"'Simple Data'!$C125","v":58}]
[null,null,null,125,{"$f":"'Simple Data'!#REF!","v":{"$error":"#REF!"}},{"$f":"'Simple Data'!$B126","v":4},{"$f":"'Simple Data'!$C126","v":84}]
[null,null,null,126,{"$f":"'Simple Data'!#REF!","v":{"$error":"#REF!"}},{"$f":"'Simple Data'!$B127","v":4},{"$f":"'Simple Data'!$C127","v":56}]
[null,null,null,127,{"$f":"'Simple Data'!#REF!","v":{"$error":"#REF!"}},{"$f":"'Simple Data'!$B128","v":4},{"$f":"'Simple Data'!$C128","v":95}]
[null,null,null,128,{"$f":"'Simple Data'!#REF!","v":{"$error":"#REF!"}},{"$f":"'Simple Data'!$B129","v":5},{"$f":"'Simple Data'!$C129","v":51}]
[null,null,null,129,{"$f":"'Simple Data'!#REF!","v":{"$error":"#REF!"}},{"$f":"'Simple Data'!$B130","v":4},{"$f":"'Simple Data'!$C130","v":86}]
[null,null,null,130,{"$f":"'Simple Data'!#REF!","v":{"$error":"#REF!"}},{"$f":"'Simple Data'!$B131","v":4},{"$f":"'Simple Data'!$C131","v":50}]
[null,null,null,131,{"$f":"'Simple Data'!#REF!","v":{"$error":"#REF!"}},{"$f":"'Simple Data'!$B132","v":4},{"$f":"'Simple Data'!$C132","v":83}]
[null,null,null,132,{"$f":"'Simple Data'!#REF!","v":{"$error":"#REF!"}},{"$f":"'Simple Data'!$B133","v":5},{"$f":"'Simple Data'!$C133","v":49}]
[null,null,null,133,{"$f":"'Simple Data'!#REF!","v":{"$error":"#REF!"}},{"$f":"'Simple Data'!$B134","v":5},{"$f":"'Simple Data'!$C134","v":81}]
[null,null,null,134,{"$f":"'Simple Data'!#REF!","v":{"$error":"#REF!"}},{"$f":"'Simple Data'!$B135","v":5},{"$f":"'Simple Data'!$C135","v":49}]
[null,null,null,135,{"$f":"'Simple Data'!#REF!","v":{"$error":"#REF!"}},{"$f":"'Simple Data'!$B136","v":5},{"$f":"'Simple Data'!$C136","v":76}]
[null,null,null,136,{"$f":"'Simple Data'!#REF!","v":{"$error":"#REF!"}},{"$f":"'Simple Data'!$B137","v":6},{"$f":"'Simple Data'!$C137","v":59}]
[null,null,null,137,{"$f":"'Simple Data'!#REF!","v":{"$error":"#REF!"}},{"$f":"'Simple Data'!$B138","v":5},{"$f":"'Simple Data'!$C138","v":76}]
[null,null,null,138,{"$f":"'Simple Data'!#REF!","v":{"$error":"#REF!"}},{"$f":"'Simple Data'!$B139","v":6},{"$f":"'Simple Data'!$C139","v":106}]
[null,null,null,139,{"$f":"'Simple Data'!#REF!","v":{"$error":"#REF!"}},{"$f":"'Simple Data'!$B140","v":6},{"$f":"'Simple Data'!$C140","v":60}]
[null,null,null,140,{"$f":"'Simple Data'!#REF!","v":{"$error":"#REF!"}},{"$f":"'Simple Data'!$B141","v":6},{"$f":"'Simple Data'!$C141","v":109}]
[null,null,null,141,{"$f":"'Simple Data'!#REF!","v":{"$error":"#REF!"}},{"$f":"'Simple Data'!$B142","v":7},{"$f":"'Simple Data'!$C142","v":59}]
[null,null,null,142,{"$f":"'Simple Data'!#REF!","v":{"$error":"#REF!"}},{"$f":"'Simple Data'!$B143","v":6},{"$f":"'Simple Data'!$C143","v":103}]
[null,null,null,143,{"$f":"'Simple Data'!#REF!","v":{"$error":"#REF!"}},{"$f":"'Simple Data'!$B144","v":7},{"$f":"'Simple Data'!$C144","v":55}]
[null,null,null,144,{"$f":"'Simple Data'!#REF!","v":{"$error":"#REF!"}},{"$f":"'Simple Data'!$B145","v":6},{"$f":"'Simple Data'!$C145","v":86}]
[null,null,null,145,{"$f":"'Simple Data'!#REF!","v":{"$error":"#REF!"}},{"$f":"'Simple Data'!$B146","v":7},{"$f":"'Simple Data'!$C146","v":68}]
[null,null,null,146,{"$f":"'Simple Data'!#REF!","v":{"$error":"#REF!"}},{"$f":"'Simple Data'!$B147","v":6},{"$f":"'Simple Data'!$C147","v":82}]
[null,null,null,147,{"$f":"'Simple Data'!#REF!","v":{"$error":"#REF!"}},{"$f":"'Simple Data'!$B148","v":7},{"$f":"'Simple Data'!$C148","v":89}]
[null,null,null,148,{"$f":"'Simple Data'!#REF!","v":{"$error":"#REF!"}},{"$f":"'Simple Data'!$B149","v":6},{"$f":"'Simple Data'!$C149","v":74}]
[null,null,null,149,{"$f":"'Simple Data'!#REF!","v":{"$error":"#REF!"}},{"$f":"'Simple Data'!$B150","v":6},{"$f":"'Simple Data'!$C150","v":119}]
[null,null,null,150,{"$f":"'Simple Data'!#REF!","v":{"$error":"#REF!"}},{"$f":"'Simple Data'!$B151","v":9},{"$f":"'Simple Data'!$C151","v":60}]
[null,null,null,151,{"$f":"'Simple Data'!#REF!","v":{"$error":"#REF!"}},{"$f":"'Simple Data'!$B152","v":6},{"$f":"'Simple Data'!$C152","v":97}]
[null,null,null,152,{"$f":"'Simple Data'!#REF!","v":{"$error":"#REF!"}},{"$f":"'Simple Data'!$B153","v":9},{"$f":"'Simple Data'!$C153","v":58}]
[null,null,null,153,{"$f":"'Simple Data'!#REF!","v":{"$error":"#REF!"}},{"$f":"'Simple Data'!$B154","v":7},{"$f":"'Simple Data'!$C154","v":93}]
[null,null,null,154,{"$f":"'Simple Data'!#REF!","v":{"$error":"#REF!"}},{"$f":"'Simple Data'!$B155","v":9},{"$f":"'Simple Data'!$C155","v":81}]
[null,null,null,155,{"$f":"'Simple Data'!#REF!","v":{"$error":"#REF!"}},{"$f":"'Simple Data'!$B156","v":6},{"$f":"'Simple Data'!$C156","v":91}]
[null,null,null,156,{"$f":"'Simple Data'!#REF!","v":{"$error":"#REF!"}},{"$f":"'Simple Data'!$B157","v":6},{"$f":"'Simple Data'!$C157","v":105}]
[null,null,null,157,{"$f":"'Simple Data'!#REF!","v":{"$error":"#REF!"}},{"$f":"'Simple Data'!$B158","v":7},{"$f":"'Simple Data'!$C158","v":86}]
[null,null,null,158,{"$f":"'Simple Data'!#REF!","v":{"$error":"#REF!"}},{"$f":"'Simple Data'!$B159","v":7},{"$f":"'Simple Data'!$C159","v":130}]
[null,null,null,159,{"$f":"'Simple Data'!#REF!","v":{"$error":"#REF!"}},{"$f":"'Simple Data'!$B160","v":11},{"$f":"'Simple Data'!$C160","v":97}]
[null,null,null,160,{"$f":"'Simple Data'!#REF!","v":{"$error":"#REF!"}},{"$f":"'Simple Data'!$B161","v":9},{"$f":"'Simple Data'!$C161","v":92}]
[null,null,null,161,{"$f":"'Simple Data'!#REF!","v":{"$error":"#REF!"}},{"$f":"'Simple Data'!$B162","v":10},{"$f":"'Simple Data'!$C162","v":120}]
[null,null,null,162,{"$f":"'Simple Data'!#REF!","v":{"$error":"#REF!"}},{"$f":"'Simple Data'!$B163","v":10},{"$f":"'Simple Data'!$C163","v":82}]
[null,null,null,163,{"$f":"'Simple Data'!#REF!","v":{"$error":"#REF!"}},{"$f":"'Simple Data'!$B164","v":9},{"$f":"'Simple Data'!$C164","v":134}]
[null,null,null,164,{"$f":"'Simple Data'!#REF!","v":{"$error":"#REF!"}},{"$f":"'Simple Data'!$B165","v":10},{"$f":"'Simple Data'!$C165","v":110}]
[null,null,null,165,{"$f":"'Simple Data'!#REF!","v":{"$error":"#REF!"}},{"$f":"'Simple Data'!$B166","v":11},{"$f":"'Simple Data'!$C166","v":84}]
[null,null,null,166,{"$f":"'Simple Data'!#REF!","v":{"$error":"#REF!"}},{"$f":"'Simple Data'!$B167","v":11},{"$f":"'Simple Data'!$C167","v":145}]
[null,null,null,167,{"$f":"'Simple Data'!#REF!","v":{"$error":"#REF!"}},{"$f":"'Simple Data'!$B168","v":12},{"$f":"'Simple Data'!$C168","v":99}]
[null,null,null,168,{"$f":"'Simple Data'!#REF!","v":{"$error":"#REF!"}},{"$f":"'Simple Data'!$B169","v":11},{"$f":"'Simple Data'!$C169","v":90}]
[null,null,null,169,{"$f":"'Simple Data'!#REF!","v":{"$error":"#REF!"}},{"$f":"'Simple Data'!$B170","v":11},{"$f":"'Simple Data'!$C170","v":129}]
[null,null,null,170,{"$f":"'Simple Data'!#REF!","v":{"$error":"#REF!"}},{"$f":"'Simple Data'!$B171","v":12},{"$f":"'Simple Data'!$C171","v":84}]
[null,null,null,171,{"$f":"'Simple Data'!#REF!","v":{"$error":"#REF!"}},{"$f":"'Simple Data'!$B172","v":11},{"$f":"'Simple Data'!$C172","v":107}]
[null,null,null,172,{"$f":"'Simple Data'!#REF!","v":{"$error":"#REF!"}},{"$f":"'Simple Data'!$B173","v":12},{"$f":"'Simple Data'!$C173","v":159}]
[null,null,null,173,{"$f":"'Simple Data'!#REF!","v":{"$error":"#REF!"}},{"$f":"'Simple Data'!$B174","v":13},{"$f":"'Simple Data'!$C174","v":132}]
[null,null,null,174,{"$f":"'Simple Data'!#REF!","v":{"$error":"#REF!"}},{"$f":"'Simple Data'!$B175","v":12},{"$f":"'Simple Data'!$C175","v":90}]
[null,null,null,175,{"$f":"'Simple Data'!#REF!","v":{"$error":"#REF!"}},{"$f":"'Simple Data'!$B176","v":11},{"$f":"'Simple Data'!$C176","v":151}]
[null,null,null,176,{"$f":"'Simple Data'!#REF!","v":{"$error":"#REF!"}},{"$f":"'Simple Data'!$B177","v":13},{"$f":"'Simple Data'!$C177","v":121}]
[null,null,null,177,{"$f":"'Simple Data'!#REF!","v":{"$error":"#REF!"}},{"$f":"'Simple Data'!$B178","v":12},{"$f":"'Simple Data'!$C178","v":94}]
[null,null,null,178,{"$f":"'Simple Data'!#REF!","v":{"$error":"#REF!"}},{"$f":"'Simple Data'!$B179","v":13},{"$f":"'Simple Data'!$C179","v":134}]
[null,null,null,179,{"$f":"'Simple Data'!#REF!","v":{"$error":"#REF!"}},{"$f":"'Simple Data'!$B180","v":14},{"$f":"'Simple Data'!$C180","v":107}]
[null,null,null,180,{"$f":"'Simple Data'!#REF!","v":{"$error":"#REF!"}},{"$f":"'Simple Data'!$B181","v":11},{"$f":"'Simple Data'!$C181","v":98}]
[null,null,null,181,{"$f":"'Simple Data'!#REF!","v":{"$error":"#REF!"}},{"$f":"'Simple Data'!$B182","v":13},{"$f":"'Simple Data'!$C182","v":134}]
[null,null,null,182,{"$f":"'Simple Data'!#REF!","v":{"$error":"#REF!"}},{"$f":"'Simple Data'!$B183","v":13},{"$f":"'Simple Data'!$C183","v":125}]
[null,null,null,183,{"$f":"'Simple Data'!#REF!","v":{"$error":"#REF!"}},{"$f":"'Simple Data'!$B184","v":14},{"$f":"'Simple Data'!$C184","v":100}]
[null,null,null,184,{"$f":"'Simple Data'!#REF!","v":{"$error":"#REF!"}},{"$f":"'Simple Data'!$B185","v":14},{"$f":"'Simple Data'!$C185","v":142}]
[null,null,null,185,{"$f":"'Simple Data'!#REF!","v":{"$error":"#REF!"}},{"$f":"'Simple Data'!$B186","v":14},{"$f":"'Simple Data'!$C186","v":169}]
[null,null,null,186,{"$f":"'Simple Data'!#REF!","v":{"$error":"#REF!"}},{"$f":"'Simple Data'!$B187","v":15},{"$f":"'Simple Data'!$C187","v":129}]
[null,null,null,187,{"$f":"'Simple Data'!#REF!","v":{"$error":"#REF!"}},{"$f":"'Simple Data'!$B188","v":14},{"$f":"'Simple Data'!$C188","v":100}]
[null,null,null,188,{"$f":"'Simple Data'!#REF!","v":{"$error":"#REF!"}},{"$f":"'Simple Data'!$B189","v":14},{"$f":"'Simple Data'!$C189","v":145}]
[null,null,null,189,{"$f":"'Simple Data'!#REF!","v":{"$error":"#REF!"}},{"$f":"'Simple Data'!$B190","v":15},{"$f":"'Simple Data'!$C190","v":117}]
[null,null,null,190,{"$f":"'Simple Data'!#REF!","v":{"$error":"#REF!"}},{"$f":"'Simple Data'!$B191","v":14},{"$f":"'Simple Data'!$C191","v":106}]
[null,null,null,191,{"$f":"'Simple Data'!#REF!","v":{"$error":"#REF!"}},{"$f":"'Simple Data'!$B192","v":14},{"$f":"'Simple Data'!$C192","v":156}]
[null,null,null,192,{"$f":"'Simple Data'!#REF!","v":{"$error":"#REF!"}},{"$f":"'Simple Data'!$B193","v":16},{"$f":"'Simple Data'!$C193","v":167}]
[null,null,null,193,{"$f":"'Simple Data'!#REF!","v":{"$error":"#REF!"}},{"$f":"'Simple Data'!$B194","v":15},{"$f":"'Simple Data'!$C194","v":133}]
[null,null,null,194,{"$f":"'Simple Data'!#REF!","v":{"$error":"#REF!"}},{"$f":"'Simple Data'!$B195","v":15},{"$f":"'Simple Data'!$C195","v":106}]
[null,null,null,195,{"$f":"'Simple Data'!#REF!","v":{"$error":"#REF!"}},{"$f":"'Simple Data'!$B196","v":14},{"$f":"'Simple Data'!$C196","v":156}]
[null,null,null,196,{"$f":"'Simple Data'!#REF!","v":{"$error":"#REF!"}},{"$f":"'Simple Data'!$B197","v":18},{"$f":"'Simple Data'!$C197","v":197}]
[null,null,null,197,{"$f":"'Simple Data'!#REF!","v":{"$error":"#REF!"}},{"$f":"'Simple Data'!$B198","v":18},{"$f":"'Simple Data'!$C198","v":189}]
[null,null,null,198,{"$f":"'Simple Data'!#REF!","v":{"$error":"#REF!"}},{"$f":"'Simple Data'!$B199","v":18},{"$f":"'Simple Data'!$C199","v":151}]
[null,null,null,199,{"$f":"'Simple Data'!#REF!","v":{"$error":"#REF!"}},{"$f":"'Simple Data'!$B200","v":16},{"$f":"'Simple Data'!$C200","v":105}]
[null,null,null,200,{"$f":"'Simple Data'!#REF!","v":{"$error":"#REF!"}},{"$f":"'Simple Data'!$B201","v":16},{"$f":"'Simple Data'!$C201","v":93}]
[null,null,null,201,{"$f":"'Simple Data'!#REF!","v":{"$error":"#REF!"}},{"$f":"'Simple Data'!$B202","v":16},{"$f":"'Simple Data'!$C202","v":146}]